{
 "currentVersion": 11.4,
 "serviceDescription": "BH/BH_Drone201901",
 "name": "BH/BH_Drone201901",
 "description": "",
 "extent": {
  "xmin": 807685.3931128646,
  "ymin": 1030634.6210522236,
  "xmax": 808257.5669486562,
  "ymax": 1031096.6949932533,
  "spatialReference": {
   "wkid": 102696,
   "latestWkid": 102696
  }
 },
 "initialExtent": {
  "xmin": 807685.3931128646,
  "ymin": 1030634.6210522236,
  "xmax": 808257.5669486562,
  "ymax": 1031096.6949932533,
  "spatialReference": {
   "wkid": 102696,
   "latestWkid": 102696
  }
 },
 "fullExtent": {
  "xmin": 807685.3931128646,
  "ymin": 1030634.6210522236,
  "xmax": 808257.5669486562,
  "ymax": 1031096.6949932533,
  "spatialReference": {
   "wkid": 102696,
   "latestWkid": 102696
  }
 },
 "sortableFields": "",
 "bandCount": 4,
 "pixelType": "U8",
 "minValues": [
  0,
  0,
  0,
  0
 ],
 "maxValues": [
  255,
  255,
  255,
  255
 ],
 "meanValues": [
  124.68851302226334,
  124.2109521076154,
  121.09721465269433,
  154.57291098952075
 ],
 "stdvValues": [
  46.12450661004158,
  46.94526823943017,
  48.75627131949663,
  71.72689359185222
 ],
 "hasMultidimensions": false,
 "pixelSizeX": 0.08555230798320088,
 "pixelSizeY": 0.08622391136960714,
 "meanPixelSize": 0.026178748186864317,
 "datasetFormat": "SDR",
 "uncompressedSize": 143363968,
 "blockWidth": 128,
 "blockHeight": 128,
 "compressionType": "LZ77",
 "bandNames": [
  "Band_1",
  "Band_2",
  "Band_3",
  "Band_4"
 ],
 "allowCopy": true,
 "allowAnalysis": true,
 "itemAccess": false,
 "inspectionCapabilities": "",
 "minPixelSize": 0,
 "maxPixelSize": 0,
 "copyrightText": "",
 "serviceDataType": "esriImageServiceDataTypeGeneric",
 "serviceSourceType": "esriImageServiceSourceTypeDataset",
 "objectIdField": "",
 "fields": [],
 "capabilities": "Image,Metadata,Mensuration",
 "defaultMosaicMethod": "Center",
 "allowedMosaicMethods": "",
 "sortField": "",
 "sortValue": null,
 "sortAscending": true,
 "mosaicOperator": "First",
 "defaultCompressionQuality": 75,
 "defaultResamplingMethod": "Bilinear",
 "maxImageHeight": 4100,
 "maxImageWidth": 15000,
 "allowRasterFunction": true,
 "rasterFunctionInfos": [
  {
   "name": "None",
   "description": "",
   "help": ""
  }
 ],
 "rasterTypeInfos": [
  {
   "name": "Raster Dataset",
   "description": "Supports all ArcGIS Raster Datasets",
   "help": ""
  }
 ],
 "mensurationCapabilities": "Basic",
 "hasHistograms": true,
 "hasColormap": false,
 "hasRasterAttributeTable": false,
 "minScale": 0,
 "maxScale": 0,
 "exportTilesAllowed": false,
 "supportsStatistics": false,
 "supportsAdvancedQueries": false,
 "editFieldsInfo": null,
 "ownershipBasedAccessControlForRasters": null,
 "allowComputeTiePoints": false,
 "useStandardizedQueries": true,
 "advancedQueryCapabilities": {
  "useStandardizedQueries": true,
  "supportsStatistics": false,
  "supportsOrderBy": false,
  "supportsDistinct": false,
  "supportsPagination": false
 },
 "spatialReference": {
  "wkid": 102696,
  "latestWkid": 102696
 }
}
