{
 "currentVersion": 11.4,
 "serviceDescription": "BH/BH_Drone20250319",
 "name": "BH/BH_Drone20250319",
 "description": "",
 "extent": {
  "xmin": 807349.3401885371,
  "ymin": 1030412.9705563971,
  "xmax": 808571.0381985536,
  "ymax": 1031467.5321794295,
  "spatialReference": {
   "wkid": 102696,
   "latestWkid": 102696
  }
 },
 "initialExtent": {
  "xmin": 807349.3401885371,
  "ymin": 1030412.9705563971,
  "xmax": 808571.0381985536,
  "ymax": 1031467.5321794295,
  "spatialReference": {
   "wkid": 102696,
   "latestWkid": 102696
  }
 },
 "fullExtent": {
  "xmin": 807349.3401885371,
  "ymin": 1030412.9705563971,
  "xmax": 808571.0381985536,
  "ymax": 1031467.5321794295,
  "spatialReference": {
   "wkid": 102696,
   "latestWkid": 102696
  }
 },
 "sortableFields": "",
 "bandCount": 4,
 "pixelType": "U8",
 "minValues": [
  1,
  1,
  1,
  255
 ],
 "maxValues": [
  254,
  254,
  254,
  255
 ],
 "meanValues": [
  129.56595708711413,
  125.43679329851872,
  107.42841822553214,
  255
 ],
 "stdvValues": [
  46.1203883787868,
  43.52870506719989,
  47.54596169293956,
  0
 ],
 "hasMultidimensions": false,
 "pixelSizeX": 0.04266003247490976,
 "pixelSizeY": 0.042610272052706684,
 "meanPixelSize": 0.012995220400449549,
 "datasetFormat": "SDR",
 "uncompressedSize": 2834833904,
 "blockWidth": 128,
 "blockHeight": 128,
 "compressionType": "LZ77",
 "bandNames": [
  "Band_1",
  "Band_2",
  "Band_3",
  "Band_4"
 ],
 "allowCopy": true,
 "allowAnalysis": true,
 "itemAccess": false,
 "inspectionCapabilities": "",
 "minPixelSize": 0,
 "maxPixelSize": 0,
 "copyrightText": "",
 "serviceDataType": "esriImageServiceDataTypeProcessed",
 "serviceSourceType": "esriImageServiceSourceTypeDataset",
 "objectIdField": "",
 "fields": [],
 "capabilities": "Image,Metadata,Mensuration",
 "defaultMosaicMethod": "Center",
 "allowedMosaicMethods": "",
 "sortField": "",
 "sortValue": null,
 "sortAscending": true,
 "mosaicOperator": "First",
 "defaultCompressionQuality": 75,
 "defaultResamplingMethod": "Bilinear",
 "maxImageHeight": 4100,
 "maxImageWidth": 15000,
 "allowRasterFunction": true,
 "rasterFunctionInfos": [
  {
   "name": "None",
   "description": "",
   "help": ""
  }
 ],
 "rasterTypeInfos": [
  {
   "name": "Raster Dataset",
   "description": "Supports all ArcGIS Raster Datasets",
   "help": ""
  }
 ],
 "mensurationCapabilities": "Basic",
 "hasHistograms": true,
 "hasColormap": false,
 "hasRasterAttributeTable": false,
 "minScale": 0,
 "maxScale": 0,
 "exportTilesAllowed": false,
 "supportsStatistics": false,
 "supportsAdvancedQueries": false,
 "editFieldsInfo": null,
 "ownershipBasedAccessControlForRasters": null,
 "allowComputeTiePoints": false,
 "useStandardizedQueries": true,
 "advancedQueryCapabilities": {
  "useStandardizedQueries": true,
  "supportsStatistics": false,
  "supportsOrderBy": false,
  "supportsDistinct": false,
  "supportsPagination": false
 },
 "spatialReference": {
  "wkid": 102696,
  "latestWkid": 102696
 }
}
