<?xml version="1.0" encoding="UTF-8" standalone="no"?>
<metadata xml:lang="en">
<Esri>
<CreaDate>20211109</CreaDate>
<CreaTime>16195800</CreaTime>
<ArcGISFormat>1.0</ArcGISFormat>
<ArcGISstyle>ISO 19139 Metadata Implementation Specification</ArcGISstyle>
<SyncOnce>FALSE</SyncOnce>
<DataProperties>
<lineage>
<Process Date="20211109" Time="161958" ToolSource="c:\program files (x86)\arcgis\desktop10.5\ArcToolbox\Toolboxes\Data Management Tools.tbx\CalculateStatistics">CalculateStatistics \\mbggis10\gisdata\GlobalClimateData\WorldClimData\1970_2000_v2.1data\bioclimatic_variables\wc2.1_30s_bio_1.tif 1 1 # OVERWRITE "Feature Set"</Process>
<Process Date="20250625" Time="143603" ToolSource="c:\program files\arcgis\pro\Resources\ArcToolbox\toolboxes\Data Management Tools.tbx\CopyRaster">CopyRaster Y:\GlobalClimateData\WorldClimData\1970_2000_v2.1data\bioclimatic_variables\wc2.1_30s_bio_1.tif Y:\ArcPro\Climate\Climate_and_Suitability\Climate_and_Suitability.gdb\wc21_30s_BIO1 # # # NONE NONE # NONE NONE "Esri Grid format" NONE CURRENT_SLICE NO_TRANSPOSE</Process>
<Process Date="20250625" Time="144652" ToolSource="c:\program files\arcgis\pro\Resources\ArcToolbox\toolboxes\Data Management Tools.tbx\Rename">Rename Y:\ArcPro\Climate\Climate_and_Suitability\Climate_and_Suitability.gdb\wc21_30s_BIO1 Y:\ArcPro\Climate\Climate_and_Suitability\Climate_and_Suitability.gdb\wc21_30s_BIO01 RasterDataset</Process>
<Process Date="20250625" Time="152809" ToolSource="c:\program files\arcgis\pro\Resources\ArcToolbox\toolboxes\Data Management Tools.tbx\CopyMultiple">CopyMultiple "Y:\ArcPro\Climate\Climate_and_Suitability\Climate_and_Suitability.gdb\wc21_25m_BIO01 RasterDataset;Y:\ArcPro\Climate\Climate_and_Suitability\Climate_and_Suitability.gdb\wc21_25m_BIO12 RasterDataset;Y:\ArcPro\Climate\Climate_and_Suitability\Climate_and_Suitability.gdb\wc21_25m_gfdl_esm4_ssp126_41to60_BIO01 RasterDataset;Y:\ArcPro\Climate\Climate_and_Suitability\Climate_and_Suitability.gdb\wc21_25m_gfdl_esm4_ssp126_41to60_BIO12 RasterDataset;Y:\ArcPro\Climate\Climate_and_Suitability\Climate_and_Suitability.gdb\wc21_25m_gfdl_esm4_ssp370_41to60_BIO01 RasterDataset;Y:\ArcPro\Climate\Climate_and_Suitability\Climate_and_Suitability.gdb\wc21_25m_gfdl_esm4_ssp370_41to60_BIO12 RasterDataset;Y:\ArcPro\Climate\Climate_and_Suitability\Climate_and_Suitability.gdb\wc21_30s_BIO01 RasterDataset;Y:\ArcPro\Climate\Climate_and_Suitability\Climate_and_Suitability.gdb\wc21_30s_BIO05 RasterDataset;Y:\ArcPro\Climate\Climate_and_Suitability\Climate_and_Suitability.gdb\wc21_30s_BIO06 RasterDataset;Y:\ArcPro\Climate\Climate_and_Suitability\Climate_and_Suitability.gdb\wc21_30s_BIO12 RasterDataset;Y:\ArcPro\Climate\Climate_and_Suitability\Climate_and_Suitability.gdb\wc21_30s_BIO13 RasterDataset;Y:\ArcPro\Climate\Climate_and_Suitability\Climate_and_Suitability.gdb\wc21_30s_BIO14 RasterDataset" C:\Users\kflamm\AppData\Roaming\Esri\ArcGISPro\Favorites\SQLServer-MBGGISDB01-ClimateData.sde wc21_25m_BIO01;wc21_25m_BIO12;wc21_25m_gfdl_esm4_ssp126_41to60_BIO01;wc21_25m_gfdl_esm4_ssp126_41to60_BIO12;wc21_25m_gfdl_esm4_ssp370_41to60_BIO01;wc21_25m_gfdl_esm4_ssp370_41to60_BIO12;wc21_30s_BIO01;wc21_30s_BIO05;wc21_30s_BIO06;wc21_30s_BIO12;wc21_30s_BIO13;wc21_30s_BIO14 "wc21_25m_BIO01 RasterDataset DBO.wc21_25m_BIO01 #;wc21_25m_BIO12 RasterDataset DBO.wc21_25m_BIO12 #;wc21_25m_gfdl_esm4_ssp126_41to60_BIO01 RasterDataset DBO.wc21_25m_gfdl_esm4_ssp126_41to60_BIO01 #;wc21_25m_gfdl_esm4_ssp126_41to60_BIO12 RasterDataset DBO.wc21_25m_gfdl_esm4_ssp126_41to60_BIO12 #;wc21_25m_gfdl_esm4_ssp370_41to60_BIO01 RasterDataset DBO.wc21_25m_gfdl_esm4_ssp370_41to60_BIO01 #;wc21_25m_gfdl_esm4_ssp370_41to60_BIO12 RasterDataset DBO.wc21_25m_gfdl_esm4_ssp370_41to60_BIO12 #;wc21_30s_BIO01 RasterDataset DBO.wc21_30s_BIO01 #;wc21_30s_BIO05 RasterDataset DBO.wc21_30s_BIO05 #;wc21_30s_BIO06 RasterDataset DBO.wc21_30s_BIO06 #;wc21_30s_BIO12 RasterDataset DBO.wc21_30s_BIO12 #;wc21_30s_BIO13 RasterDataset DBO.wc21_30s_BIO13 #;wc21_30s_BIO14 RasterDataset DBO.wc21_30s_BIO14 #"</Process>
</lineage>
<itemProps>
<itemName Sync="TRUE">wc21_30s_BIO1</itemName>
<imsContentType Sync="TRUE">002</imsContentType>
<nativeExtBox>
<westBL Sync="TRUE">-180.000000</westBL>
<eastBL Sync="TRUE">180.000000</eastBL>
<southBL Sync="TRUE">-90.000000</southBL>
<northBL Sync="TRUE">90.000000</northBL>
<exTypeCode Sync="TRUE">1</exTypeCode>
</nativeExtBox>
<itemLocation>
<linkage Sync="TRUE">file://\\MBGGISWEB01\gisdata\ArcPro\Climate\Climate_and_Suitability\Climate_and_Suitability.gdb</linkage>
<protocol Sync="TRUE">Local Area Network</protocol>
</itemLocation>
</itemProps>
<coordRef>
<type Sync="TRUE">Geographic</type>
<geogcsn Sync="TRUE">GCS_WGS_1984</geogcsn>
<csUnits Sync="TRUE">Angular Unit: Degree (0.017453)</csUnits>
<peXml Sync="TRUE">&lt;GeographicCoordinateSystem xsi:type='typens:GeographicCoordinateSystem' xmlns:xsi='http://www.w3.org/2001/XMLSchema-instance' xmlns:xs='http://www.w3.org/2001/XMLSchema' xmlns:typens='http://www.esri.com/schemas/ArcGIS/3.3.0'&gt;&lt;WKT&gt;GEOGCS[&amp;quot;GCS_WGS_1984&amp;quot;,DATUM[&amp;quot;D_WGS_1984&amp;quot;,SPHEROID[&amp;quot;WGS_1984&amp;quot;,6378137.0,298.257223563]],PRIMEM[&amp;quot;Greenwich&amp;quot;,0.0],UNIT[&amp;quot;Degree&amp;quot;,0.0174532925199433],AUTHORITY[&amp;quot;EPSG&amp;quot;,4326]]&lt;/WKT&gt;&lt;XOrigin&gt;-400&lt;/XOrigin&gt;&lt;YOrigin&gt;-400&lt;/YOrigin&gt;&lt;XYScale&gt;11258999068426.238&lt;/XYScale&gt;&lt;ZOrigin&gt;-100000&lt;/ZOrigin&gt;&lt;ZScale&gt;10000&lt;/ZScale&gt;&lt;MOrigin&gt;-100000&lt;/MOrigin&gt;&lt;MScale&gt;10000&lt;/MScale&gt;&lt;XYTolerance&gt;8.983152841195215e-09&lt;/XYTolerance&gt;&lt;ZTolerance&gt;0.001&lt;/ZTolerance&gt;&lt;MTolerance&gt;0.001&lt;/MTolerance&gt;&lt;HighPrecision&gt;true&lt;/HighPrecision&gt;&lt;LeftLongitude&gt;-180&lt;/LeftLongitude&gt;&lt;WKID&gt;4326&lt;/WKID&gt;&lt;LatestWKID&gt;4326&lt;/LatestWKID&gt;&lt;/GeographicCoordinateSystem&gt;</peXml>
</coordRef>
</DataProperties>
<SyncDate>20250625</SyncDate>
<SyncTime>14355000</SyncTime>
<ModDate>20250625</ModDate>
<ModTime>14355000</ModTime>
</Esri>
<dataIdInfo>
<envirDesc Sync="TRUE">Microsoft Windows 10 Version 10.0 (Build 22631) ; Esri ArcGIS 13.3.0.52636</envirDesc>
<dataLang>
<languageCode Sync="TRUE" value="eng"/>
<countryCode Sync="TRUE" value="USA"/>
</dataLang>
<idCitation>
<resTitle Sync="TRUE">WC21_30s_BIO01</resTitle>
<presForm>
<PresFormCd Sync="TRUE" value="011"/>
</presForm>
</idCitation>
<spatRpType>
<SpatRepTypCd Sync="TRUE" value="002"/>
</spatRpType>
<dataExt>
<geoEle>
<GeoBndBox esriExtentType="search">
<exTypeCode Sync="TRUE">1</exTypeCode>
<westBL Sync="TRUE">-180.000000</westBL>
<eastBL Sync="TRUE">180.000000</eastBL>
<northBL Sync="TRUE">90.000000</northBL>
<southBL Sync="TRUE">-90.000000</southBL>
</GeoBndBox>
</geoEle>
</dataExt>
<idAbs/>
<searchKeys>
<keyword>worldclim</keyword>
<keyword>bio01</keyword>
<keyword>annual mean temp</keyword>
</searchKeys>
<idPurp>WorldClim v2.1 BIO01 (Annual Mean Temp), years 1970-2000, at 30 seconds resolution</idPurp>
<idCredit/>
<resConst>
<Consts>
<useLimit/>
</Consts>
</resConst>
</dataIdInfo>
<mdLang>
<languageCode Sync="TRUE" value="eng"/>
<countryCode Sync="TRUE" value="USA"/>
</mdLang>
<distInfo>
<distFormat>
<formatName Sync="TRUE">File Geodatabase Raster Dataset</formatName>
</distFormat>
</distInfo>
<mdHrLv>
<ScopeCd Sync="TRUE" value="005"/>
</mdHrLv>
<mdHrLvName Sync="TRUE">dataset</mdHrLvName>
<refSysInfo>
<RefSystem>
<refSysID>
<identCode Sync="TRUE" code="4326"/>
<idCodeSpace Sync="TRUE">EPSG</idCodeSpace>
<idVersion Sync="TRUE">6.2(3.0.1)</idVersion>
</refSysID>
</RefSystem>
</refSysInfo>
<spdoinfo>
<rastinfo>
<rasttype Sync="TRUE">Pixel</rasttype>
<rowcount Sync="TRUE">21600</rowcount>
<colcount Sync="TRUE">43200</colcount>
<rastxsz Sync="TRUE">0.008333</rastxsz>
<rastysz Sync="TRUE">0.008333</rastysz>
<rastbpp Sync="TRUE">32</rastbpp>
<vrtcount Sync="TRUE">1</vrtcount>
<rastorig Sync="TRUE">Upper Left</rastorig>
<rastcmap Sync="TRUE">FALSE</rastcmap>
<rastcomp Sync="TRUE">LZ77</rastcomp>
<rastband Sync="TRUE">1</rastband>
<rastdtyp Sync="TRUE">pixel codes</rastdtyp>
<rastifor Sync="TRUE">FGDBR</rastifor>
<rastplyr Sync="TRUE">TRUE</rastplyr>
</rastinfo>
</spdoinfo>
<spref>
<horizsys>
<planar>
<planci>
<plance Sync="TRUE">row and column</plance>
<coordrep>
<absres Sync="TRUE">0.008333</absres>
<ordres Sync="TRUE">0.008333</ordres>
</coordrep>
</planci>
</planar>
</horizsys>
</spref>
<mdDateSt Sync="TRUE">20250625</mdDateSt>
</metadata>
