{ "currentVersion": 11.4, "serviceDescription": "
Imagery mosaic extracted from original dataset based on a 250 ft buffer of LREC property line.<\/span><\/span><\/p> Original dataset is a mosaic of 533 images taken on March 8 and 11, 2019, at LREC using Mavic 2 Zoom drone flown in pre-programmed grid flight pattern at an average of 183 ft altitude (note: not above take off point). Mosaic produced using Pix4Dmapper. Approximate resolution is 2.95 cm/pixel.<\/span><\/p><\/div><\/div><\/div>",
"name": "LREC/LREC_Drone201903",
"description": " Imagery mosaic extracted from original dataset based on a 250 ft buffer of LREC property line.<\/span><\/span><\/p> Original dataset is a mosaic of 533 images taken on March 8 and 11, 2019, at LREC using Mavic 2 Zoom drone flown in pre-programmed grid flight pattern at an average of 183 ft altitude (note: not above take off point). Mosaic produced using Pix4Dmapper. Approximate resolution is 2.95 cm/pixel.<\/span><\/p><\/div><\/div><\/div>",
"extent": {
"xmin": 853717.1066115781,
"ymin": 1015031.6248438453,
"xmax": 856366.2776421678,
"ymax": 1017653.3688840243,
"spatialReference": {
"wkid": 102696,
"latestWkid": 102696
}
},
"initialExtent": {
"xmin": 853717.1066115781,
"ymin": 1015031.6248438453,
"xmax": 856366.2776421678,
"ymax": 1017653.3688840243,
"spatialReference": {
"wkid": 102696,
"latestWkid": 102696
}
},
"fullExtent": {
"xmin": 853717.1066115781,
"ymin": 1015031.6248438453,
"xmax": 856366.2776421678,
"ymax": 1017653.3688840243,
"spatialReference": {
"wkid": 102696,
"latestWkid": 102696
}
},
"sortableFields": "",
"bandCount": 4,
"pixelType": "U8",
"minValues": [
0,
0,
0,
0
],
"maxValues": [
255,
255,
255,
255
],
"meanValues": [
139.924430738337,
135.56868651655995,
124.61328723492282,
254.54770092983935
],
"stdvValues": [
33.118881289421175,
32.618090005915576,
33.29242960749208,
10.7299435574372
],
"hasMultidimensions": false,
"pixelSizeX": 0.09865823888684687,
"pixelSizeY": 0.09865823888684679,
"meanPixelSize": 0.030071091354893626,
"datasetFormat": "SDR",
"uncompressedSize": 2854260192,
"blockWidth": 128,
"blockHeight": 128,
"compressionType": "LZ77",
"bandNames": [
"Band_1",
"Band_2",
"Band_3",
"Band_4"
],
"allowCopy": true,
"allowAnalysis": true,
"itemAccess": false,
"inspectionCapabilities": "",
"minPixelSize": 0,
"maxPixelSize": 0,
"copyrightText": "",
"serviceDataType": "esriImageServiceDataTypeGeneric",
"serviceSourceType": "esriImageServiceSourceTypeDataset",
"objectIdField": "",
"fields": [],
"capabilities": "Mensuration,Image,Metadata",
"defaultMosaicMethod": "Center",
"allowedMosaicMethods": "",
"sortField": "",
"sortValue": null,
"sortAscending": true,
"mosaicOperator": "First",
"defaultCompressionQuality": 75,
"defaultResamplingMethod": "Bilinear",
"maxImageHeight": 4100,
"maxImageWidth": 15000,
"allowRasterFunction": true,
"rasterFunctionInfos": [
{
"name": "None",
"description": "",
"help": ""
}
],
"rasterTypeInfos": [
{
"name": "Raster Dataset",
"description": "Supports all ArcGIS Raster Datasets",
"help": ""
}
],
"mensurationCapabilities": "Basic",
"hasHistograms": true,
"hasColormap": false,
"hasRasterAttributeTable": false,
"minScale": 0,
"maxScale": 0,
"exportTilesAllowed": false,
"supportsStatistics": false,
"supportsAdvancedQueries": false,
"editFieldsInfo": null,
"ownershipBasedAccessControlForRasters": null,
"allowComputeTiePoints": false,
"useStandardizedQueries": true,
"advancedQueryCapabilities": {
"useStandardizedQueries": true,
"supportsStatistics": false,
"supportsOrderBy": false,
"supportsDistinct": false,
"supportsPagination": false
},
"spatialReference": {
"wkid": 102696,
"latestWkid": 102696
},
"resampling": false
}