{
 "currentVersion": 11.4,
 "serviceDescription": "LREC/LREC_Drone201910",
 "name": "LREC/LREC_Drone201910",
 "description": "",
 "extent": {
  "xmin": 854402.4919719697,
  "ymin": 1015031.586809811,
  "xmax": 856246.8090897204,
  "ymax": 1017653.4295082293,
  "spatialReference": {
   "wkid": 102696,
   "latestWkid": 102696
  }
 },
 "initialExtent": {
  "xmin": 854402.4919719697,
  "ymin": 1015031.586809811,
  "xmax": 856246.8090897204,
  "ymax": 1017653.4295082293,
  "spatialReference": {
   "wkid": 102696,
   "latestWkid": 102696
  }
 },
 "fullExtent": {
  "xmin": 854402.4919719697,
  "ymin": 1015031.586809811,
  "xmax": 856246.8090897204,
  "ymax": 1017653.4295082293,
  "spatialReference": {
   "wkid": 102696,
   "latestWkid": 102696
  }
 },
 "sortableFields": "",
 "bandCount": 4,
 "pixelType": "U8",
 "minValues": [
  0,
  0,
  0,
  0
 ],
 "maxValues": [
  255,
  255,
  255,
  255
 ],
 "meanValues": [
  134.68987979666025,
  132.63584477526138,
  119.84518106095976,
  153.50158601254068
 ],
 "stdvValues": [
  41.462181514560086,
  39.69704467538218,
  45.950652856489086,
  70.82036495264506
 ],
 "hasMultidimensions": false,
 "pixelSizeX": 0.0986582388868431,
 "pixelSizeY": 0.09865823888685993,
 "meanPixelSize": 0.030071091354895055,
 "datasetFormat": "SDR",
 "uncompressedSize": 1987172200,
 "blockWidth": 128,
 "blockHeight": 128,
 "compressionType": "NONE",
 "bandNames": [
  "Band_1",
  "Band_2",
  "Band_3",
  "Band_4"
 ],
 "allowCopy": true,
 "allowAnalysis": true,
 "itemAccess": false,
 "inspectionCapabilities": "",
 "minPixelSize": 0,
 "maxPixelSize": 0,
 "copyrightText": "",
 "serviceDataType": "esriImageServiceDataTypeGeneric",
 "serviceSourceType": "esriImageServiceSourceTypeDataset",
 "objectIdField": "",
 "fields": [],
 "capabilities": "Image,Metadata,Mensuration",
 "defaultMosaicMethod": "Center",
 "allowedMosaicMethods": "",
 "sortField": "",
 "sortValue": null,
 "sortAscending": true,
 "mosaicOperator": "First",
 "defaultCompressionQuality": 75,
 "defaultResamplingMethod": "Bilinear",
 "maxImageHeight": 4100,
 "maxImageWidth": 15000,
 "allowRasterFunction": true,
 "rasterFunctionInfos": [
  {
   "name": "None",
   "description": "",
   "help": ""
  }
 ],
 "rasterTypeInfos": [
  {
   "name": "Raster Dataset",
   "description": "Supports all ArcGIS Raster Datasets",
   "help": ""
  }
 ],
 "mensurationCapabilities": "Basic",
 "hasHistograms": true,
 "hasColormap": false,
 "hasRasterAttributeTable": false,
 "minScale": 0,
 "maxScale": 0,
 "exportTilesAllowed": false,
 "supportsStatistics": false,
 "supportsAdvancedQueries": false,
 "editFieldsInfo": null,
 "ownershipBasedAccessControlForRasters": null,
 "allowComputeTiePoints": false,
 "useStandardizedQueries": true,
 "advancedQueryCapabilities": {
  "useStandardizedQueries": true,
  "supportsStatistics": false,
  "supportsOrderBy": false,
  "supportsDistinct": false,
  "supportsPagination": false
 },
 "spatialReference": {
  "wkid": 102696,
  "latestWkid": 102696
 }
}
