{
 "currentVersion": 11.4,
 "serviceDescription": "MBG/HPN_Drone20250801",
 "name": "MBG/HPN_Drone20250801",
 "description": "",
 "extent": {
  "xmin": 888252.3868998622,
  "ymin": 1005296.2277421488,
  "xmax": 889242.7921272482,
  "ymax": 1006055.0046873067,
  "spatialReference": {
   "wkid": 102696,
   "latestWkid": 102696
  }
 },
 "initialExtent": {
  "xmin": 888252.3868998622,
  "ymin": 1005296.2277421488,
  "xmax": 889242.7921272482,
  "ymax": 1006055.0046873067,
  "spatialReference": {
   "wkid": 102696,
   "latestWkid": 102696
  }
 },
 "fullExtent": {
  "xmin": 888252.3868998622,
  "ymin": 1005296.2277421488,
  "xmax": 889242.7921272482,
  "ymax": 1006055.0046873067,
  "spatialReference": {
   "wkid": 102696,
   "latestWkid": 102696
  }
 },
 "sortableFields": "",
 "bandCount": 4,
 "pixelType": "U8",
 "minValues": [
  1,
  1,
  1,
  1
 ],
 "maxValues": [
  254,
  254,
  254,
  255
 ],
 "meanValues": [
  141.73517437680172,
  143.35861597083456,
  139.37107994695612,
  168.2783099602171
 ],
 "stdvValues": [
  64.05213083014989,
  61.20121895331812,
  64.10345810993897,
  74.75843664753363
 ],
 "hasMultidimensions": false,
 "pixelSizeX": 0.06070519322010686,
 "pixelSizeY": 0.06105873864632718,
 "meanPixelSize": 0.01855686033016521,
 "datasetFormat": "SDR",
 "uncompressedSize": 810986020,
 "blockWidth": 128,
 "blockHeight": 128,
 "compressionType": "NONE",
 "bandNames": [
  "Band_1",
  "Band_2",
  "Band_3",
  "Band_4"
 ],
 "allowCopy": true,
 "allowAnalysis": true,
 "itemAccess": false,
 "inspectionCapabilities": "",
 "minPixelSize": 0,
 "maxPixelSize": 0,
 "copyrightText": "",
 "serviceDataType": "esriImageServiceDataTypeProcessed",
 "serviceSourceType": "esriImageServiceSourceTypeDataset",
 "objectIdField": "",
 "fields": [],
 "capabilities": "Image,Metadata,Mensuration",
 "defaultMosaicMethod": "Center",
 "allowedMosaicMethods": "",
 "sortField": "",
 "sortValue": null,
 "sortAscending": true,
 "mosaicOperator": "First",
 "defaultCompressionQuality": 75,
 "defaultResamplingMethod": "Bilinear",
 "maxImageHeight": 4100,
 "maxImageWidth": 15000,
 "allowRasterFunction": true,
 "rasterFunctionInfos": [
  {
   "name": "None",
   "description": "",
   "help": ""
  }
 ],
 "rasterTypeInfos": [
  {
   "name": "Raster Dataset",
   "description": "Supports all ArcGIS Raster Datasets",
   "help": ""
  }
 ],
 "mensurationCapabilities": "Basic",
 "hasHistograms": true,
 "hasColormap": false,
 "hasRasterAttributeTable": false,
 "minScale": 0,
 "maxScale": 0,
 "exportTilesAllowed": false,
 "supportsStatistics": false,
 "supportsAdvancedQueries": false,
 "editFieldsInfo": null,
 "ownershipBasedAccessControlForRasters": null,
 "allowComputeTiePoints": false,
 "useStandardizedQueries": true,
 "advancedQueryCapabilities": {
  "useStandardizedQueries": true,
  "supportsStatistics": false,
  "supportsOrderBy": false,
  "supportsDistinct": false,
  "supportsPagination": false
 },
 "spatialReference": {
  "wkid": 102696,
  "latestWkid": 102696
 }
}
