<?xml version="1.0" encoding="UTF-8" standalone="no"?>
<metadata xml:lang="en">
<Esri>
<CreaDate>20230329</CreaDate>
<CreaTime>12075200</CreaTime>
<ArcGISFormat>1.0</ArcGISFormat>
<ArcGISstyle>FGDC CSDGM Metadata</ArcGISstyle>
<SyncOnce>FALSE</SyncOnce>
<DataProperties>
<itemProps>
<itemName Sync="TRUE">MBG.DBO.M3E_ortho_20230320</itemName>
<imsContentType Sync="TRUE">002</imsContentType>
<nativeExtBox>
<westBL Sync="TRUE">887783.191345</westBL>
<eastBL Sync="TRUE">889947.840706</eastBL>
<southBL Sync="TRUE">1010445.249284</southBL>
<northBL Sync="TRUE">1013743.409841</northBL>
<exTypeCode Sync="TRUE">1</exTypeCode>
</nativeExtBox>
<itemLocation>
<linkage Sync="TRUE">Server=mbggis10; Service=sde:sqlserver:mbggis10\gis; Database=MBG; Version=dbo.DEFAULT</linkage>
<protocol Sync="TRUE">ArcSDE Connection</protocol>
</itemLocation>
</itemProps>
<coordRef>
<type Sync="TRUE">Projected</type>
<geogcsn Sync="TRUE">GCS_North_American_1983</geogcsn>
<csUnits Sync="TRUE">Linear Unit: Foot_US (0.304801)</csUnits>
<projcsn Sync="TRUE">NAD_1983_StatePlane_Missouri_East_FIPS_2401_Feet</projcsn>
<peXml Sync="TRUE">&lt;ProjectedCoordinateSystem xsi:type='typens:ProjectedCoordinateSystem' xmlns:xsi='http://www.w3.org/2001/XMLSchema-instance' xmlns:xs='http://www.w3.org/2001/XMLSchema' xmlns:typens='http://www.esri.com/schemas/ArcGIS/10.8'&gt;&lt;WKT&gt;PROJCS[&amp;quot;NAD_1983_StatePlane_Missouri_East_FIPS_2401_Feet&amp;quot;,GEOGCS[&amp;quot;GCS_North_American_1983&amp;quot;,DATUM[&amp;quot;D_North_American_1983&amp;quot;,SPHEROID[&amp;quot;GRS_1980&amp;quot;,6378137.0,298.257222101]],PRIMEM[&amp;quot;Greenwich&amp;quot;,0.0],UNIT[&amp;quot;Degree&amp;quot;,0.0174532925199433]],PROJECTION[&amp;quot;Transverse_Mercator&amp;quot;],PARAMETER[&amp;quot;False_Easting&amp;quot;,820208.3333333333],PARAMETER[&amp;quot;False_Northing&amp;quot;,0.0],PARAMETER[&amp;quot;Central_Meridian&amp;quot;,-90.5],PARAMETER[&amp;quot;Scale_Factor&amp;quot;,0.9999333333333333],PARAMETER[&amp;quot;Latitude_Of_Origin&amp;quot;,35.83333333333334],UNIT[&amp;quot;Foot_US&amp;quot;,0.3048006096012192],AUTHORITY[&amp;quot;Esri&amp;quot;,102696]]&lt;/WKT&gt;&lt;XOrigin&gt;-17627100&lt;/XOrigin&gt;&lt;YOrigin&gt;-45827300&lt;/YOrigin&gt;&lt;XYScale&gt;137250677.77723414&lt;/XYScale&gt;&lt;ZOrigin&gt;-100000&lt;/ZOrigin&gt;&lt;ZScale&gt;10000&lt;/ZScale&gt;&lt;MOrigin&gt;-100000&lt;/MOrigin&gt;&lt;MScale&gt;10000&lt;/MScale&gt;&lt;XYTolerance&gt;0.0032808333333333331&lt;/XYTolerance&gt;&lt;ZTolerance&gt;0.00020000000000000001&lt;/ZTolerance&gt;&lt;MTolerance&gt;0.00020000000000000001&lt;/MTolerance&gt;&lt;HighPrecision&gt;true&lt;/HighPrecision&gt;&lt;WKID&gt;102696&lt;/WKID&gt;&lt;LatestWKID&gt;102696&lt;/LatestWKID&gt;&lt;/ProjectedCoordinateSystem&gt;</peXml>
</coordRef>
<lineage>
<Process Date="20250225" Time="130518" ToolSource="c:\program files\arcgis\pro\Resources\ArcToolbox\Toolboxes\Data Management Tools.tbx\CopyMultiple">CopyMultiple "'E:\DesktopPCAug2024\kflamm-C Users\AppData\Roaming\Esri\ArcGISPro\Favorites\MBG-mbggis10.sde\MBG.DBO.Oertli_HPN_20220523' RasterDataset;'E:\DesktopPCAug2024\kflamm-C Users\AppData\Roaming\Esri\ArcGISPro\Favorites\MBG-mbggis10.sde\MBG.DBO.Oertli_HPN_20190304' RasterDataset;'E:\DesktopPCAug2024\kflamm-C Users\AppData\Roaming\Esri\ArcGISPro\Favorites\MBG-mbggis10.sde\MBG.DBO.M3E_ortho_20240306_1' RasterDataset;'E:\DesktopPCAug2024\kflamm-C Users\AppData\Roaming\Esri\ArcGISPro\Favorites\MBG-mbggis10.sde\MBG.DBO.M3E_ortho_20230320' RasterDataset" C:\Users\kflamm\AppData\Roaming\Esri\ArcGISPro\Favorites\SQLServer-MBGGISDB01-MBG.sde Oertli_HPN_20220523;Oertli_HPN_20190304;M3E_ortho_20240306_1;M3E_ortho_20230320 "MBG.DBO.Oertli_HPN_20220523 RasterDataset DBO.Oertli_HPN_20220523 #;MBG.DBO.Oertli_HPN_20190304 RasterDataset DBO.Oertli_HPN_20190304 #;MBG.DBO.M3E_ortho_20240306_1 RasterDataset DBO.M3E_ortho_20240306_1 #;MBG.DBO.M3E_ortho_20230320 RasterDataset DBO.M3E_ortho_20230320 #"</Process>
<Process Date="20250225" Time="130648" ToolSource="c:\program files\arcgis\pro\Resources\ArcToolbox\Toolboxes\Data Management Tools.tbx\Rename">Rename C:\Users\kflamm\AppData\Roaming\Esri\ArcGISPro\Favorites\SQLServer-MBGGISDB01-MBG.sde\DBO.M3E_ortho_20230320 C:\Users\kflamm\AppData\Roaming\Esri\ArcGISPro\Favorites\SQLServer-MBGGISDB01-MBG.sde\DBO.Drone_20230320 RasterDataset</Process>
<Process Date="20250225" Time="130706" ToolSource="c:\program files\arcgis\pro\Resources\ArcToolbox\Toolboxes\Data Management Tools.tbx\Rename">Rename C:\Users\kflamm\AppData\Roaming\Esri\ArcGISPro\Favorites\SQLServer-MBGGISDB01-MBG.sde\DBO.Drone_20230320 C:\Users\kflamm\AppData\Roaming\Esri\ArcGISPro\Favorites\SQLServer-MBGGISDB01-MBG.sde\DBO.Drone20230320 RasterDataset</Process>
</lineage>
</DataProperties>
<SyncDate>20230627</SyncDate>
<SyncTime>11452200</SyncTime>
<ModDate>20230627</ModDate>
<ModTime>11452200</ModTime>
<scaleRange>
<minScale>150000000</minScale>
<maxScale>5000</maxScale>
</scaleRange>
<ArcGISProfile>FGDC</ArcGISProfile>
</Esri>
<dataIdInfo>
<envirDesc Sync="TRUE"> Version 6.2 (Build 9200) ; Esri ArcGIS 10.9.1.28388</envirDesc>
<dataLang>
<languageCode Sync="TRUE" value="eng"/>
<countryCode Sync="TRUE" value="USA"/>
</dataLang>
<idCitation>
<resTitle Sync="TRUE">MBG_Drone20230320</resTitle>
<presForm>
<PresFormCd Sync="TRUE" value="011"/>
</presForm>
</idCitation>
<spatRpType>
<SpatRepTypCd Sync="TRUE" value="002"/>
</spatRpType>
<dataExt>
<geoEle>
<GeoBndBox esriExtentType="search">
<exTypeCode Sync="TRUE">1</exTypeCode>
<westBL Sync="TRUE">-90.263516</westBL>
<eastBL Sync="TRUE">-90.255910</eastBL>
<northBL Sync="TRUE">38.617423</northBL>
<southBL Sync="TRUE">38.608351</southBL>
</GeoBndBox>
</geoEle>
</dataExt>
<idPurp>Imagery of main MBG site, March 20, 2023.</idPurp>
<idAbs>&lt;div style='text-align:Left;'&gt;&lt;p style='font-size:16ptmargin:7 0 7 0;'&gt;&lt;span&gt;&lt;span&gt;Imagery of main MBG site, March 20, 2023. &lt;/span&gt;&lt;/span&gt;&lt;/p&gt;&lt;p style='font-size:16ptmargin:7 0 7 0;'&gt;&lt;span&gt;&lt;span&gt;Acquired using DJI Mavic 3 Enterprise drone, flown at 250 ft AGL. &lt;/span&gt;&lt;/span&gt;&lt;/p&gt;&lt;p style='font-size:16ptmargin:7 0 7 0;'&gt;&lt;span&gt;Approximate GSD 2.07 cm / 0.82 in. &lt;/span&gt;&lt;/p&gt;&lt;p style='font-size:16ptmargin:7 0 7 0;'&gt;&lt;span&gt;Area covered approximately 0.53 sq km / 52.9 ha / 0.2 sq mi / 130.7 acres. &lt;/span&gt;&lt;/p&gt;&lt;p style='font-size:16ptmargin:7 0 7 0;'&gt;&lt;span&gt;&lt;span&gt;819 images. Processed using Esri Site Scan, all default settings.&lt;/span&gt;&lt;/span&gt;&lt;/p&gt;&lt;div&gt;&lt;p&gt;&lt;span /&gt;&lt;/p&gt;&lt;/div&gt;&lt;/div&gt;</idAbs>
<idCredit/>
<resConst>
<Consts>
<useLimit/>
</Consts>
</resConst>
</dataIdInfo>
<mdLang>
<languageCode Sync="TRUE" value="eng"/>
<countryCode Sync="TRUE" value="USA"/>
</mdLang>
<mdChar>
<CharSetCd Sync="TRUE" value="004"/>
</mdChar>
<distInfo>
<distFormat>
<formatName Sync="TRUE">SDE Raster Dataset</formatName>
</distFormat>
</distInfo>
<mdHrLv>
<ScopeCd Sync="TRUE" value="005"/>
</mdHrLv>
<mdHrLvName Sync="TRUE">dataset</mdHrLvName>
<refSysInfo>
<RefSystem>
<refSysID>
<identCode Sync="TRUE" code="102696"/>
<idCodeSpace Sync="TRUE">Esri</idCodeSpace>
<idVersion Sync="TRUE">8.0.1</idVersion>
</refSysID>
</RefSystem>
</refSysInfo>
<spdoinfo>
<rastinfo>
<rasttype Sync="TRUE">Pixel</rasttype>
<rowcount Sync="TRUE">48606</rowcount>
<colcount Sync="TRUE">31902</colcount>
<rastxsz Sync="TRUE">0.067853</rastxsz>
<rastysz Sync="TRUE">0.067855</rastysz>
<rastbpp Sync="TRUE">8</rastbpp>
<vrtcount Sync="TRUE">1</vrtcount>
<rastorig Sync="TRUE">Upper Left</rastorig>
<rastcmap Sync="TRUE">FALSE</rastcmap>
<rastcomp Sync="TRUE">NONE</rastcomp>
<rastband Sync="TRUE">4</rastband>
<rastdtyp Sync="TRUE">pixel codes</rastdtyp>
<rastifor Sync="TRUE">SDR</rastifor>
<rastplyr Sync="TRUE">TRUE</rastplyr>
</rastinfo>
</spdoinfo>
<spref>
<horizsys>
<planar>
<planci>
<plance Sync="TRUE">row and column</plance>
<coordrep>
<absres Sync="TRUE">0.067853</absres>
<ordres Sync="TRUE">0.067855</ordres>
</coordrep>
</planci>
</planar>
</horizsys>
</spref>
<mdDateSt Sync="TRUE">20230627</mdDateSt>
</metadata>
