{ "currentVersion": 11.4, "serviceDescription": "
Imagery of main MBG site, March 20, 2023. <\/SPAN><\/SPAN><\/P> Acquired using DJI Mavic 3 Enterprise drone, flown at 250 ft AGL. <\/SPAN><\/SPAN><\/P> Approximate GSD 2.07 cm / 0.82 in. <\/SPAN><\/P> Area covered approximately 0.53 sq km / 52.9 ha / 0.2 sq mi / 130.7 acres. <\/SPAN><\/P> 819 images. Processed using Esri Site Scan, all default settings.<\/SPAN><\/SPAN><\/P> <\/P><\/DIV><\/DIV>",
"name": "MBG/MBG_Drone20230320",
"description": " Imagery of main MBG site, March 20, 2023. <\/SPAN><\/SPAN><\/P> Acquired using DJI Mavic 3 Enterprise drone, flown at 250 ft AGL. <\/SPAN><\/SPAN><\/P> Approximate GSD 2.07 cm / 0.82 in. <\/SPAN><\/P> Area covered approximately 0.53 sq km / 52.9 ha / 0.2 sq mi / 130.7 acres. <\/SPAN><\/P> 819 images. Processed using Esri Site Scan, all default settings.<\/SPAN><\/SPAN><\/P> <\/P><\/DIV><\/DIV>",
"extent": {
"xmin": 887783.1913451125,
"ymin": 1010445.249284787,
"xmax": 889947.8407041273,
"ymax": 1013743.4098406433,
"spatialReference": {
"wkid": 102696,
"latestWkid": 102696
}
},
"initialExtent": {
"xmin": 887783.1913451125,
"ymin": 1010445.249284787,
"xmax": 889947.8407041273,
"ymax": 1013743.4098406433,
"spatialReference": {
"wkid": 102696,
"latestWkid": 102696
}
},
"fullExtent": {
"xmin": 887783.1913451125,
"ymin": 1010445.249284787,
"xmax": 889947.8407041273,
"ymax": 1013743.4098406433,
"spatialReference": {
"wkid": 102696,
"latestWkid": 102696
}
},
"sortableFields": "",
"bandCount": 4,
"pixelType": "U8",
"minValues": [
0,
0,
0,
0
],
"maxValues": [
255,
255,
255,
255
],
"meanValues": [
100.26969333121771,
98.64395968774612,
94.9595750860416,
117.79213833601563
],
"stdvValues": [
79.01241004506127,
77.36736633489018,
75.81259038946962,
95.26091018272015
],
"hasMultidimensions": false,
"pixelSizeX": 0.06785309256519392,
"pixelSizeY": 0.0678550087613937,
"meanPixelSize": 0.020681956006083968,
"datasetFormat": "SDR",
"uncompressedSize": 6202514448,
"blockWidth": 128,
"blockHeight": 128,
"compressionType": "NONE",
"bandNames": [
"Band_1",
"Band_2",
"Band_3",
"Band_4"
],
"allowCopy": true,
"allowAnalysis": true,
"itemAccess": false,
"inspectionCapabilities": "",
"minPixelSize": 0,
"maxPixelSize": 0,
"copyrightText": "",
"serviceDataType": "esriImageServiceDataTypeGeneric",
"serviceSourceType": "esriImageServiceSourceTypeDataset",
"objectIdField": "",
"fields": [],
"capabilities": "Image,Metadata,Mensuration",
"defaultMosaicMethod": "Center",
"allowedMosaicMethods": "",
"sortField": "",
"sortValue": null,
"sortAscending": true,
"mosaicOperator": "First",
"defaultCompressionQuality": 75,
"defaultResamplingMethod": "Bilinear",
"maxImageHeight": 4100,
"maxImageWidth": 15000,
"allowRasterFunction": true,
"rasterFunctionInfos": [
{
"name": "None",
"description": "",
"help": ""
}
],
"rasterTypeInfos": [
{
"name": "Raster Dataset",
"description": "Supports all ArcGIS Raster Datasets",
"help": ""
}
],
"mensurationCapabilities": "Basic",
"hasHistograms": true,
"hasColormap": false,
"hasRasterAttributeTable": false,
"minScale": 0,
"maxScale": 0,
"exportTilesAllowed": false,
"supportsStatistics": false,
"supportsAdvancedQueries": false,
"editFieldsInfo": null,
"ownershipBasedAccessControlForRasters": null,
"allowComputeTiePoints": false,
"useStandardizedQueries": true,
"advancedQueryCapabilities": {
"useStandardizedQueries": true,
"supportsStatistics": false,
"supportsOrderBy": false,
"supportsDistinct": false,
"supportsPagination": false
},
"spatialReference": {
"wkid": 102696,
"latestWkid": 102696
}
}