{
 "currentVersion": 11.4,
 "serviceDescription": "MBG/MBG_Drone20240306",
 "name": "MBG/MBG_Drone20240306",
 "description": "",
 "extent": {
  "xmin": 887704.5392244009,
  "ymin": 1010243.0373159724,
  "xmax": 890029.6327364128,
  "ymax": 1013840.0696165902,
  "spatialReference": {
   "wkid": 102696,
   "latestWkid": 102696
  }
 },
 "initialExtent": {
  "xmin": 887704.5392244009,
  "ymin": 1010243.0373159724,
  "xmax": 890029.6327364128,
  "ymax": 1013840.0696165902,
  "spatialReference": {
   "wkid": 102696,
   "latestWkid": 102696
  }
 },
 "fullExtent": {
  "xmin": 887704.5392244009,
  "ymin": 1010243.0373159724,
  "xmax": 890029.6327364128,
  "ymax": 1013840.0696165902,
  "spatialReference": {
   "wkid": 102696,
   "latestWkid": 102696
  }
 },
 "sortableFields": "",
 "bandCount": 4,
 "pixelType": "U8",
 "minValues": [
  1,
  1,
  1,
  255
 ],
 "maxValues": [
  254,
  254,
  254,
  255
 ],
 "meanValues": [
  134.29346408213058,
  129.91302827434043,
  119.42733339529632,
  255
 ],
 "stdvValues": [
  63.783081635350776,
  60.809703283890705,
  60.52350668939714,
  0
 ],
 "hasMultidimensions": false,
 "pixelSizeX": 0.06559537076149424,
 "pixelSizeY": 0.06553523239779509,
 "meanPixelSize": 0.019984343890163476,
 "datasetFormat": "SDR",
 "uncompressedSize": 7781956624,
 "blockWidth": 128,
 "blockHeight": 128,
 "compressionType": "LZ77",
 "bandNames": [
  "Band_1",
  "Band_2",
  "Band_3",
  "Band_4"
 ],
 "allowCopy": true,
 "allowAnalysis": true,
 "itemAccess": false,
 "inspectionCapabilities": "",
 "minPixelSize": 0,
 "maxPixelSize": 0,
 "copyrightText": "",
 "serviceDataType": "esriImageServiceDataTypeProcessed",
 "serviceSourceType": "esriImageServiceSourceTypeDataset",
 "objectIdField": "",
 "fields": [],
 "capabilities": "Image,Metadata,Mensuration",
 "defaultMosaicMethod": "Center",
 "allowedMosaicMethods": "",
 "sortField": "",
 "sortValue": null,
 "sortAscending": true,
 "mosaicOperator": "First",
 "defaultCompressionQuality": 75,
 "defaultResamplingMethod": "Bilinear",
 "maxImageHeight": 4100,
 "maxImageWidth": 15000,
 "allowRasterFunction": true,
 "rasterFunctionInfos": [
  {
   "name": "None",
   "description": "",
   "help": ""
  }
 ],
 "rasterTypeInfos": [
  {
   "name": "Raster Dataset",
   "description": "Supports all ArcGIS Raster Datasets",
   "help": ""
  }
 ],
 "mensurationCapabilities": "Basic",
 "hasHistograms": true,
 "hasColormap": false,
 "hasRasterAttributeTable": false,
 "minScale": 0,
 "maxScale": 0,
 "exportTilesAllowed": false,
 "supportsStatistics": false,
 "supportsAdvancedQueries": false,
 "editFieldsInfo": null,
 "ownershipBasedAccessControlForRasters": null,
 "allowComputeTiePoints": false,
 "useStandardizedQueries": true,
 "advancedQueryCapabilities": {
  "useStandardizedQueries": true,
  "supportsStatistics": false,
  "supportsOrderBy": false,
  "supportsDistinct": false,
  "supportsPagination": false
 },
 "spatialReference": {
  "wkid": 102696,
  "latestWkid": 102696
 }
}
