{
 "currentVersion": 11.4,
 "serviceDescription": "MBG/MBG_Drone20250307",
 "name": "MBG/MBG_Drone20250307",
 "description": "",
 "extent": {
  "xmin": 887721.8292669244,
  "ymin": 1010233.5962299865,
  "xmax": 890050.9340235176,
  "ymax": 1013836.9456088458,
  "spatialReference": {
   "wkid": 102696,
   "latestWkid": 102696
  }
 },
 "initialExtent": {
  "xmin": 887721.8292669244,
  "ymin": 1010233.5962299865,
  "xmax": 890050.9340235176,
  "ymax": 1013836.9456088458,
  "spatialReference": {
   "wkid": 102696,
   "latestWkid": 102696
  }
 },
 "fullExtent": {
  "xmin": 887721.8292669244,
  "ymin": 1010233.5962299865,
  "xmax": 890050.9340235176,
  "ymax": 1013836.9456088458,
  "spatialReference": {
   "wkid": 102696,
   "latestWkid": 102696
  }
 },
 "sortableFields": "",
 "bandCount": 4,
 "pixelType": "U8",
 "minValues": [
  1,
  1,
  1,
  1
 ],
 "maxValues": [
  254,
  254,
  254,
  255
 ],
 "meanValues": [
  131.49005495811537,
  128.78609276219717,
  123.8724982429619,
  156.65437368222143
 ],
 "stdvValues": [
  56.74338734011099,
  55.9467834765704,
  56.073710280807326,
  74.71378594951736
 ],
 "hasMultidimensions": false,
 "pixelSizeX": 0.06570853570482532,
 "pixelSizeY": 0.06565032482845255,
 "meanPixelSize": 0.02001913038353232,
 "datasetFormat": "SDR",
 "uncompressedSize": 7782098408,
 "blockWidth": 128,
 "blockHeight": 128,
 "compressionType": "LZ77",
 "bandNames": [
  "Band_1",
  "Band_2",
  "Band_3",
  "Band_4"
 ],
 "allowCopy": true,
 "allowAnalysis": true,
 "itemAccess": false,
 "inspectionCapabilities": "",
 "minPixelSize": 0,
 "maxPixelSize": 0,
 "copyrightText": "",
 "serviceDataType": "esriImageServiceDataTypeProcessed",
 "serviceSourceType": "esriImageServiceSourceTypeDataset",
 "objectIdField": "",
 "fields": [],
 "capabilities": "Image,Metadata,Mensuration",
 "defaultMosaicMethod": "Center",
 "allowedMosaicMethods": "",
 "sortField": "",
 "sortValue": null,
 "sortAscending": true,
 "mosaicOperator": "First",
 "defaultCompressionQuality": 75,
 "defaultResamplingMethod": "Bilinear",
 "maxImageHeight": 4100,
 "maxImageWidth": 15000,
 "allowRasterFunction": true,
 "rasterFunctionInfos": [
  {
   "name": "None",
   "description": "",
   "help": ""
  }
 ],
 "rasterTypeInfos": [
  {
   "name": "Raster Dataset",
   "description": "Supports all ArcGIS Raster Datasets",
   "help": ""
  }
 ],
 "mensurationCapabilities": "Basic",
 "hasHistograms": true,
 "hasColormap": false,
 "hasRasterAttributeTable": false,
 "minScale": 0,
 "maxScale": 0,
 "exportTilesAllowed": false,
 "supportsStatistics": false,
 "supportsAdvancedQueries": false,
 "editFieldsInfo": null,
 "ownershipBasedAccessControlForRasters": null,
 "allowComputeTiePoints": false,
 "useStandardizedQueries": true,
 "advancedQueryCapabilities": {
  "useStandardizedQueries": true,
  "supportsStatistics": false,
  "supportsOrderBy": false,
  "supportsDistinct": false,
  "supportsPagination": false
 },
 "spatialReference": {
  "wkid": 102696,
  "latestWkid": 102696
 }
}
