{
 "currentVersion": 11.4,
 "serviceDescription": "MBG/MBG_DroneT20210419",
 "name": "MBG/MBG_DroneT20210419",
 "description": "",
 "extent": {
  "xmin": 887641.8406320402,
  "ymin": 1010282.4072252489,
  "xmax": 890077.6750912076,
  "ymax": 1013825.0610279656,
  "spatialReference": {
   "wkid": 102696,
   "latestWkid": 102696
  }
 },
 "initialExtent": {
  "xmin": 887641.8406320402,
  "ymin": 1010282.4072252489,
  "xmax": 890077.6750912076,
  "ymax": 1013825.0610279656,
  "spatialReference": {
   "wkid": 102696,
   "latestWkid": 102696
  }
 },
 "fullExtent": {
  "xmin": 887641.8406320402,
  "ymin": 1010282.4072252489,
  "xmax": 890077.6750912076,
  "ymax": 1013825.0610279656,
  "spatialReference": {
   "wkid": 102696,
   "latestWkid": 102696
  }
 },
 "sortableFields": "",
 "bandCount": 4,
 "pixelType": "U8",
 "minValues": [
  0,
  0,
  0,
  0
 ],
 "maxValues": [
  255,
  255,
  255,
  255
 ],
 "meanValues": [
  95.56087953871386,
  97.12245631631944,
  90.00061653437245,
  115.63952528660279
 ],
 "stdvValues": [
  72.2798690385773,
  71.78967478594872,
  70.45507058514016,
  93.27905546577048
 ],
 "hasMultidimensions": false,
 "pixelSizeX": 0.06045604376082598,
 "pixelSizeY": 0.060455874719991046,
 "meanPixelSize": 0.01842701323050298,
 "datasetFormat": "SDR",
 "uncompressedSize": 9444049236,
 "blockWidth": 128,
 "blockHeight": 128,
 "compressionType": "LZ77",
 "bandNames": [
  "Band_1",
  "Band_2",
  "Band_3",
  "Band_4"
 ],
 "allowCopy": true,
 "allowAnalysis": true,
 "itemAccess": false,
 "inspectionCapabilities": "",
 "minPixelSize": 0,
 "maxPixelSize": 0,
 "copyrightText": "",
 "serviceDataType": "esriImageServiceDataTypeGeneric",
 "serviceSourceType": "esriImageServiceSourceTypeDataset",
 "objectIdField": "",
 "fields": [],
 "capabilities": "Image,Metadata,Mensuration",
 "defaultMosaicMethod": "Center",
 "allowedMosaicMethods": "",
 "sortField": "",
 "sortValue": null,
 "sortAscending": true,
 "mosaicOperator": "First",
 "defaultCompressionQuality": 75,
 "defaultResamplingMethod": "Bilinear",
 "maxImageHeight": 4100,
 "maxImageWidth": 15000,
 "allowRasterFunction": true,
 "rasterFunctionInfos": [
  {
   "name": "None",
   "description": "",
   "help": ""
  }
 ],
 "rasterTypeInfos": [
  {
   "name": "Raster Dataset",
   "description": "Supports all ArcGIS Raster Datasets",
   "help": ""
  }
 ],
 "mensurationCapabilities": "Basic",
 "hasHistograms": true,
 "hasColormap": false,
 "hasRasterAttributeTable": false,
 "minScale": 0,
 "maxScale": 0,
 "exportTilesAllowed": false,
 "supportsStatistics": false,
 "supportsAdvancedQueries": false,
 "editFieldsInfo": null,
 "ownershipBasedAccessControlForRasters": null,
 "allowComputeTiePoints": false,
 "useStandardizedQueries": true,
 "advancedQueryCapabilities": {
  "useStandardizedQueries": true,
  "supportsStatistics": false,
  "supportsOrderBy": false,
  "supportsDistinct": false,
  "supportsPagination": false
 },
 "spatialReference": {
  "wkid": 102696,
  "latestWkid": 102696
 }
}
