{ "currentVersion": 11.4, "serviceDescription": "
Six inch resolution, 100 scale accuracy, leaf-off, true color (RGB) orthophotos; <\/SPAN><\/P> Funding provided through a grant from the U.S. Department of Homeland Security; <\/SPAN><\/P> Extent of original dataset includes The City of St. Louis, Franklin, Jefferson, St. Charles & St. Louis Counties in Missouri, and Madison, Monroe and St. Clair Counties in Illinois <\/SPAN><\/P><\/DIV><\/DIV><\/DIV>",
"name": "MBG/MBG_Ortho2012",
"description": " Six inch resolution, 100 scale accuracy, leaf-off, true color (RGB) orthophotos; <\/SPAN><\/P> Funding provided through a grant from the U.S. Department of Homeland Security; <\/SPAN><\/P> Extent of original dataset includes The City of St. Louis, Franklin, Jefferson, St. Charles & St. Louis Counties in Missouri, and Madison, Monroe and St. Clair Counties in Illinois <\/SPAN><\/P><\/DIV><\/DIV><\/DIV>",
"extent": {
"xmin": 887814.3300992186,
"ymin": 1010515.6937035287,
"xmax": 889908.5731337807,
"ymax": 1013741.5680626405,
"spatialReference": {
"wkid": 102696,
"latestWkid": 102696
}
},
"initialExtent": {
"xmin": 887814.3300992186,
"ymin": 1010515.6937035287,
"xmax": 889908.5731337807,
"ymax": 1013741.5680626405,
"spatialReference": {
"wkid": 102696,
"latestWkid": 102696
}
},
"fullExtent": {
"xmin": 887814.3300992186,
"ymin": 1010515.6937035287,
"xmax": 889908.5731337807,
"ymax": 1013741.5680626405,
"spatialReference": {
"wkid": 102696,
"latestWkid": 102696
}
},
"sortableFields": "",
"bandCount": 3,
"pixelType": "U8",
"minValues": [
1,
1,
1
],
"maxValues": [
255,
255,
255
],
"meanValues": [
105.64728912260036,
103.30632793950191,
91.33974419905134
],
"stdvValues": [
47.54828052369409,
46.81727288470891,
45.040036440762606
],
"hasMultidimensions": false,
"pixelSizeX": 0.5000580311752856,
"pixelSizeY": 0.5000580311752856,
"meanPixelSize": 0.15241799273821255,
"datasetFormat": "SDR",
"uncompressedSize": 81050364,
"blockWidth": 128,
"blockHeight": 128,
"compressionType": "LZ77",
"bandNames": [
"Band_1",
"Band_2",
"Band_3"
],
"allowCopy": true,
"allowAnalysis": true,
"itemAccess": false,
"inspectionCapabilities": "",
"minPixelSize": 0,
"maxPixelSize": 0,
"copyrightText": "East-West Gateway Council of Governments\nOne Memorial Drive, Suite 1600\nSt. Louis, MO 63102-2451",
"serviceDataType": "esriImageServiceDataTypeRGB",
"serviceSourceType": "esriImageServiceSourceTypeDataset",
"objectIdField": "",
"fields": [],
"capabilities": "Image,Metadata,Mensuration",
"defaultMosaicMethod": "Center",
"allowedMosaicMethods": "",
"sortField": "",
"sortValue": null,
"sortAscending": true,
"mosaicOperator": "First",
"defaultCompressionQuality": 75,
"defaultResamplingMethod": "Bilinear",
"maxImageHeight": 4100,
"maxImageWidth": 15000,
"allowRasterFunction": true,
"rasterFunctionInfos": [
{
"name": "None",
"description": "",
"help": ""
}
],
"rasterTypeInfos": [
{
"name": "Raster Dataset",
"description": "Supports all ArcGIS Raster Datasets",
"help": ""
}
],
"mensurationCapabilities": "Basic",
"hasHistograms": true,
"hasColormap": false,
"hasRasterAttributeTable": false,
"minScale": 0,
"maxScale": 0,
"exportTilesAllowed": false,
"supportsStatistics": false,
"supportsAdvancedQueries": false,
"editFieldsInfo": null,
"ownershipBasedAccessControlForRasters": null,
"allowComputeTiePoints": false,
"useStandardizedQueries": true,
"advancedQueryCapabilities": {
"useStandardizedQueries": true,
"supportsStatistics": false,
"supportsOrderBy": false,
"supportsDistinct": false,
"supportsPagination": false
},
"spatialReference": {
"wkid": 102696,
"latestWkid": 102696
}
}