{ "currentVersion": 11.4, "serviceDescription": "
This is a mosaic of 432 images taken on June 26, 2019 at SNR using Mavic 2 Zoom drone flown in pre-programmed grid flight pattern at an average of 250 ft altitude (note: not above take off point). Mosaic produced using Pix4Dmapper. Approximate resolution is 4.65 cm/pixel. Approximate area of coverage is 209 acres.<\/SPAN><\/SPAN><\/P> <\/P><\/DIV><\/DIV>",
"name": "SNR/SNR_Drone201906",
"description": " This is a mosaic of 432 images taken on June 26, 2019 at SNR using Mavic 2 Zoom drone flown in pre-programmed grid flight pattern at an average of 250 ft altitude (note: not above take off point). Mosaic produced using Pix4Dmapper. Approximate resolution is 4.65 cm/pixel. Approximate area of coverage is 209 acres.<\/SPAN><\/SPAN><\/P> <\/P><\/DIV><\/DIV>",
"extent": {
"xmin": 726012.3621582324,
"ymin": 960877.0190137968,
"xmax": 728804.5076101228,
"ymax": 965254.5763677866,
"spatialReference": {
"wkid": 102696,
"latestWkid": 102696
}
},
"initialExtent": {
"xmin": 726012.3621582324,
"ymin": 960877.0190137968,
"xmax": 728804.5076101228,
"ymax": 965254.5763677866,
"spatialReference": {
"wkid": 102696,
"latestWkid": 102696
}
},
"fullExtent": {
"xmin": 726012.3621582324,
"ymin": 960877.0190137968,
"xmax": 728804.5076101228,
"ymax": 965254.5763677866,
"spatialReference": {
"wkid": 102696,
"latestWkid": 102696
}
},
"sortableFields": "",
"bandCount": 4,
"pixelType": "U8",
"minValues": [
0,
0,
0,
0
],
"maxValues": [
255,
255,
255,
255
],
"meanValues": [
90.24974103210802,
97.98878366433931,
86.2906558449106,
111.94424494282923
],
"stdvValues": [
70.71870242355905,
73.82932314541345,
70.5447065621391,
93.95826328028869
],
"hasMultidimensions": false,
"pixelSizeX": 0.15219369082581605,
"pixelSizeY": 0.1520935777218332,
"meanPixelSize": 0.0463734724736067,
"datasetFormat": "SDR",
"uncompressedSize": 2112138288,
"blockWidth": 128,
"blockHeight": 128,
"compressionType": "LZ77",
"bandNames": [
"Band_1",
"Band_2",
"Band_3",
"Band_4"
],
"allowCopy": true,
"allowAnalysis": true,
"itemAccess": false,
"inspectionCapabilities": "",
"minPixelSize": 0,
"maxPixelSize": 0,
"copyrightText": "",
"serviceDataType": "esriImageServiceDataTypeGeneric",
"serviceSourceType": "esriImageServiceSourceTypeDataset",
"objectIdField": "",
"fields": [],
"capabilities": "Image,Metadata,Mensuration",
"defaultMosaicMethod": "Center",
"allowedMosaicMethods": "",
"sortField": "",
"sortValue": null,
"sortAscending": true,
"mosaicOperator": "First",
"defaultCompressionQuality": 75,
"defaultResamplingMethod": "Bilinear",
"maxImageHeight": 4100,
"maxImageWidth": 15000,
"allowRasterFunction": true,
"rasterFunctionInfos": [
{
"name": "None",
"description": "",
"help": ""
}
],
"rasterTypeInfos": [
{
"name": "Raster Dataset",
"description": "Supports all ArcGIS Raster Datasets",
"help": ""
}
],
"mensurationCapabilities": "Basic",
"hasHistograms": true,
"hasColormap": false,
"hasRasterAttributeTable": false,
"minScale": 0,
"maxScale": 0,
"exportTilesAllowed": false,
"supportsStatistics": false,
"supportsAdvancedQueries": false,
"editFieldsInfo": null,
"ownershipBasedAccessControlForRasters": null,
"allowComputeTiePoints": false,
"useStandardizedQueries": true,
"advancedQueryCapabilities": {
"useStandardizedQueries": true,
"supportsStatistics": false,
"supportsOrderBy": false,
"supportsDistinct": false,
"supportsPagination": false
},
"spatialReference": {
"wkid": 102696,
"latestWkid": 102696
}
}