{ "currentVersion": 11.4, "serviceDescription": "
Imagery of Wolf Run Grassland Restoration project, March 28, 2023. <\/SPAN><\/P> Acquired using DJI Mavic 3 Enterprise drone, flown at 390 ft AGL. <\/SPAN><\/P> Approximate GSD 2.98 cm / 1.17 in. <\/SPAN><\/P> Area covered approximately 1.4 sq km / 139 ha / 0.54 sq mi / 344 acres. <\/SPAN><\/P> 942 images. Processed using Esri Site Scan, all default settings.<\/SPAN><\/P><\/DIV><\/DIV>",
"name": "SNR/SNR_Drone202303",
"description": " Imagery of Wolf Run Grassland Restoration project, March 28, 2023. <\/SPAN><\/P> Acquired using DJI Mavic 3 Enterprise drone, flown at 390 ft AGL. <\/SPAN><\/P> Approximate GSD 2.98 cm / 1.17 in. <\/SPAN><\/P> Area covered approximately 1.4 sq km / 139 ha / 0.54 sq mi / 344 acres. <\/SPAN><\/P> 942 images. Processed using Esri Site Scan, all default settings.<\/SPAN><\/P><\/DIV><\/DIV>",
"extent": {
"xmin": 727526.2271666465,
"ymin": 961565.3794381975,
"xmax": 732543.3019633737,
"ymax": 964612.4049179375,
"spatialReference": {
"wkid": 102696,
"latestWkid": 102696
}
},
"initialExtent": {
"xmin": 727526.2271666465,
"ymin": 961565.3794381975,
"xmax": 732543.3019633737,
"ymax": 964612.4049179375,
"spatialReference": {
"wkid": 102696,
"latestWkid": 102696
}
},
"fullExtent": {
"xmin": 727526.2271666465,
"ymin": 961565.3794381975,
"xmax": 732543.3019633737,
"ymax": 964612.4049179375,
"spatialReference": {
"wkid": 102696,
"latestWkid": 102696
}
},
"sortableFields": "",
"bandCount": 4,
"pixelType": "U8",
"minValues": [
0,
0,
0,
0
],
"maxValues": [
255,
255,
255,
255
],
"meanValues": [
125.41256462845033,
122.28171598126949,
117.84625019266986,
144.6794916861011
],
"stdvValues": [
56.57019964149413,
55.339423653596235,
54.66891312042605,
77.9765431155935
],
"hasMultidimensions": false,
"pixelSizeX": 0.09789796278346784,
"pixelSizeY": 0.09789640095550192,
"meanPixelSize": 0.029839120712060418,
"datasetFormat": "SDR",
"uncompressedSize": 6380376000,
"blockWidth": 128,
"blockHeight": 128,
"compressionType": "NONE",
"bandNames": [
"Band_1",
"Band_2",
"Band_3",
"Band_4"
],
"allowCopy": true,
"allowAnalysis": true,
"itemAccess": false,
"inspectionCapabilities": "",
"minPixelSize": 0,
"maxPixelSize": 0,
"copyrightText": "",
"serviceDataType": "esriImageServiceDataTypeGeneric",
"serviceSourceType": "esriImageServiceSourceTypeDataset",
"objectIdField": "",
"fields": [],
"capabilities": "Image,Metadata,Mensuration",
"defaultMosaicMethod": "Center",
"allowedMosaicMethods": "",
"sortField": "",
"sortValue": null,
"sortAscending": true,
"mosaicOperator": "First",
"defaultCompressionQuality": 75,
"defaultResamplingMethod": "Bilinear",
"maxImageHeight": 4100,
"maxImageWidth": 15000,
"allowRasterFunction": true,
"rasterFunctionInfos": [
{
"name": "None",
"description": "",
"help": ""
}
],
"rasterTypeInfos": [
{
"name": "Raster Dataset",
"description": "Supports all ArcGIS Raster Datasets",
"help": ""
}
],
"mensurationCapabilities": "Basic",
"hasHistograms": true,
"hasColormap": false,
"hasRasterAttributeTable": false,
"minScale": 0,
"maxScale": 0,
"exportTilesAllowed": false,
"supportsStatistics": false,
"supportsAdvancedQueries": false,
"editFieldsInfo": null,
"ownershipBasedAccessControlForRasters": null,
"allowComputeTiePoints": false,
"useStandardizedQueries": true,
"advancedQueryCapabilities": {
"useStandardizedQueries": true,
"supportsStatistics": false,
"supportsOrderBy": false,
"supportsDistinct": false,
"supportsPagination": false
},
"spatialReference": {
"wkid": 102696,
"latestWkid": 102696
}
}