{
 "currentVersion": 11.4,
 "serviceDescription": "SNR/SNR_Drone202502",
 "name": "SNR/SNR_Drone202502",
 "description": "",
 "extent": {
  "xmin": 725672.7008784758,
  "ymin": 960434.192870387,
  "xmax": 728847.1179294585,
  "ymax": 964988.4266185515,
  "spatialReference": {
   "wkid": 102696,
   "latestWkid": 102696
  }
 },
 "initialExtent": {
  "xmin": 725672.7008784758,
  "ymin": 960434.192870387,
  "xmax": 728847.1179294585,
  "ymax": 964988.4266185515,
  "spatialReference": {
   "wkid": 102696,
   "latestWkid": 102696
  }
 },
 "fullExtent": {
  "xmin": 725672.7008784758,
  "ymin": 960434.192870387,
  "xmax": 728847.1179294585,
  "ymax": 964988.4266185515,
  "spatialReference": {
   "wkid": 102696,
   "latestWkid": 102696
  }
 },
 "sortableFields": "",
 "bandCount": 4,
 "pixelType": "U8",
 "minValues": [
  1,
  1,
  1,
  1
 ],
 "maxValues": [
  254,
  254,
  254,
  255
 ],
 "meanValues": [
  145.42654794889552,
  140.63095847935088,
  135.00564006279942,
  165.00423004709955
 ],
 "stdvValues": [
  38.68515109474807,
  38.35208963760799,
  38.71303462304091,
  61.83664359421287
 ],
 "hasMultidimensions": false,
 "pixelSizeX": 0.1016301280929313,
 "pixelSizeY": 0.0973230846920503,
 "meanPixelSize": 0.03032053026949174,
 "datasetFormat": "SDR",
 "uncompressedSize": 5846567300,
 "blockWidth": 128,
 "blockHeight": 128,
 "compressionType": "NONE",
 "bandNames": [
  "Band_1",
  "Band_2",
  "Band_3",
  "Band_4"
 ],
 "allowCopy": true,
 "allowAnalysis": true,
 "itemAccess": false,
 "inspectionCapabilities": "",
 "minPixelSize": 0,
 "maxPixelSize": 0,
 "copyrightText": "",
 "serviceDataType": "esriImageServiceDataTypeProcessed",
 "serviceSourceType": "esriImageServiceSourceTypeDataset",
 "objectIdField": "",
 "fields": [],
 "capabilities": "Image,Metadata,Mensuration",
 "defaultMosaicMethod": "Center",
 "allowedMosaicMethods": "",
 "sortField": "",
 "sortValue": null,
 "sortAscending": true,
 "mosaicOperator": "First",
 "defaultCompressionQuality": 75,
 "defaultResamplingMethod": "Bilinear",
 "maxImageHeight": 4100,
 "maxImageWidth": 15000,
 "allowRasterFunction": true,
 "rasterFunctionInfos": [
  {
   "name": "None",
   "description": "",
   "help": ""
  }
 ],
 "rasterTypeInfos": [
  {
   "name": "Raster Dataset",
   "description": "Supports all ArcGIS Raster Datasets",
   "help": ""
  }
 ],
 "mensurationCapabilities": "Basic",
 "hasHistograms": true,
 "hasColormap": false,
 "hasRasterAttributeTable": false,
 "minScale": 0,
 "maxScale": 0,
 "exportTilesAllowed": false,
 "supportsStatistics": false,
 "supportsAdvancedQueries": false,
 "editFieldsInfo": null,
 "ownershipBasedAccessControlForRasters": null,
 "allowComputeTiePoints": false,
 "useStandardizedQueries": true,
 "advancedQueryCapabilities": {
  "useStandardizedQueries": true,
  "supportsStatistics": false,
  "supportsOrderBy": false,
  "supportsDistinct": false,
  "supportsPagination": false
 },
 "spatialReference": {
  "wkid": 102696,
  "latestWkid": 102696
 }
}
