{
 "currentVersion": 11.4,
 "serviceDescription": "SNR/SNR_LIDAR_DEM_2011",
 "name": "SNR/SNR_LIDAR_DEM_2011",
 "description": "",
 "extent": {
  "xmin": 722966.3601462911,
  "ymin": 950274.6819134578,
  "xmax": 738875.1209798576,
  "ymax": 966898.6644137015,
  "spatialReference": {
   "wkid": 102696,
   "latestWkid": 102696
  }
 },
 "initialExtent": {
  "xmin": 722966.3601462911,
  "ymin": 950274.6819134578,
  "xmax": 738875.1209798576,
  "ymax": 966898.6644137015,
  "spatialReference": {
   "wkid": 102696,
   "latestWkid": 102696
  }
 },
 "fullExtent": {
  "xmin": 722966.3601462911,
  "ymin": 950274.6819134578,
  "xmax": 738875.1209798576,
  "ymax": 966898.6644137015,
  "spatialReference": {
   "wkid": 102696,
   "latestWkid": 102696
  }
 },
 "sortableFields": "",
 "bandCount": 1,
 "pixelType": "F32",
 "minValues": [
  133.74000549316406
 ],
 "maxValues": [
  221.36000061035156
 ],
 "meanValues": [
  169.36591147641957
 ],
 "stdvValues": [
  20.345582749112516
 ],
 "hasMultidimensions": false,
 "pixelSizeX": 3.2808333333814277,
 "pixelSizeY": 3.2808333333814286,
 "meanPixelSize": 1.0000000000146594,
 "datasetFormat": "SDR",
 "uncompressedSize": 98279532,
 "blockWidth": 128,
 "blockHeight": 128,
 "compressionType": "LZ77",
 "bandNames": [
  "Band_1"
 ],
 "allowCopy": true,
 "allowAnalysis": true,
 "itemAccess": false,
 "inspectionCapabilities": "",
 "minPixelSize": 0,
 "maxPixelSize": 0,
 "copyrightText": "",
 "serviceDataType": "esriImageServiceDataTypeGeneric",
 "serviceSourceType": "esriImageServiceSourceTypeDataset",
 "objectIdField": "",
 "fields": [],
 "capabilities": "Image,Metadata,Mensuration",
 "defaultMosaicMethod": "Center",
 "allowedMosaicMethods": "",
 "sortField": "",
 "sortValue": null,
 "sortAscending": true,
 "mosaicOperator": "First",
 "defaultCompressionQuality": 75,
 "defaultResamplingMethod": "Bilinear",
 "maxImageHeight": 4100,
 "maxImageWidth": 15000,
 "allowRasterFunction": true,
 "rasterFunctionInfos": [
  {
   "name": "None",
   "description": "",
   "help": ""
  }
 ],
 "rasterTypeInfos": [
  {
   "name": "Raster Dataset",
   "description": "Supports all ArcGIS Raster Datasets",
   "help": ""
  }
 ],
 "mensurationCapabilities": "Basic",
 "hasHistograms": true,
 "hasColormap": false,
 "hasRasterAttributeTable": false,
 "minScale": 0,
 "maxScale": 0,
 "exportTilesAllowed": false,
 "supportsStatistics": false,
 "supportsAdvancedQueries": false,
 "editFieldsInfo": null,
 "ownershipBasedAccessControlForRasters": null,
 "allowComputeTiePoints": false,
 "useStandardizedQueries": true,
 "advancedQueryCapabilities": {
  "useStandardizedQueries": true,
  "supportsStatistics": false,
  "supportsOrderBy": false,
  "supportsDistinct": false,
  "supportsPagination": false
 },
 "spatialReference": {
  "wkid": 102696,
  "latestWkid": 102696
 }
}
