<?xml version="1.0" encoding="UTF-8" standalone="no"?>
<metadata xml:lang="en">
<Esri>
<CreaDate>20160301</CreaDate>
<CreaTime>15510200</CreaTime>
<ArcGISFormat>1.0</ArcGISFormat>
<ArcGISstyle>Item Description</ArcGISstyle>
<SyncOnce>FALSE</SyncOnce>
<DataProperties>
<lineage>
<Process Date="20160301" Name="" Time="155102" ToolSource="c:\program files (x86)\arcgis\desktop10.1\ArcToolbox\Toolboxes\Data Management Tools.tbx\Mosaic" export="">Mosaic '2015imagery\068-040 (1).tif';'2015imagery\070-041 (1).tif';'2015imagery\070-038 (1).tif';2015imagery\070-040.tif;2015imagery\068-038.tif;2015imagery\068-039.tif;2015imagery\068-041.tif;2015imagery\069-038.tif;2015imagery\070-039.tif;2015imagery\067-041.tif;2015imagery\067-040.tif;2015imagery\069-041.tif;2015imagery\067-039.tif;2015imagery\069-040.tif;2015imagery\067-038.tif;2015imagery\069-039.tif Y:\ShawNatureReserve\Restoration.gdb\tif LAST FIRST # # NONE 0 NONE</Process>
<Process Date="20160311" Name="" Time="155313" ToolSource="c:\program files (x86)\arcgis\desktop10.1\ArcToolbox\Toolboxes\Data Management Tools.tbx\CopyRaster" export="">CopyRaster Y:\ShawNatureReserve\Restoration.gdb\SNRortho_2015 "Database Connections\Connection to mbggis.sde\mbg.DBO.SNRortho_2015" # # 256 NONE NONE # NONE NONE</Process>
<Process Date="20160623" Name="" Time="161012" ToolSource="c:\program files (x86)\arcgis\desktop10.1\ArcToolbox\Toolboxes\Data Management Tools.tbx\CopyRaster" export="">CopyRaster "Database Connections\Connection to mbggis.sde\mbg.DBO.SNRortho_2015" "Database Connections\Connection to SNR_mbggis.sde\SNR.DBO.SNRortho_2015" # # 256 NONE NONE # NONE NONE</Process>
<Process Date="20160811" Name="" Time="113007" ToolSource="c:\program files (x86)\arcgis\desktop10.1\ArcToolbox\Toolboxes\Data Management Tools.tbx\CalculateStatistics" export="">CalculateStatistics "Database Connections\Connection to SNR_mbggis.sde\SNR.DBO.SNRortho_2015" 1 1 # OVERWRITE "Feature Set"</Process>
<Process Date="20190221" Time="152756" ToolSource="c:\program files (x86)\arcgis\desktop10.5\ArcToolbox\Toolboxes\Data Management Tools.tbx\BuildPyramids">BuildPyramids "Database Connections\mbggis10.sde - SNR.sde\SNR.DBO.SNRortho_2015" -1 NONE NEAREST DEFAULT 75 OVERWRITE</Process>
<Process Date="20190221" Time="155158" ToolSource="c:\program files (x86)\arcgis\desktop10.5\ArcToolbox\Toolboxes\Data Management Tools.tbx\BuildPyramids">BuildPyramids "Database Connections\mbggis10.sde - SNR.sde\SNR.DBO.SNRortho_2015" -1 NONE NEAREST DEFAULT 75 OVERWRITE</Process>
<Process Date="20241216" Time="120424" ToolSource="c:\program files\arcgis\pro\Resources\ArcToolbox\toolboxes\Data Management Tools.tbx\CopyMultiple">CopyMultiple "C:\Users\kflamm\AppData\Roaming\Esri\ArcGISPro\Favorites\SQLServer-mbggis10_gis-SNR.sde\SNR.DBO.SNR1999 RasterDataset;C:\Users\kflamm\AppData\Roaming\Esri\ArcGISPro\Favorites\SQLServer-mbggis10_gis-SNR.sde\SNR.DBO.SNR2009 RasterDataset;C:\Users\kflamm\AppData\Roaming\Esri\ArcGISPro\Favorites\SQLServer-mbggis10_gis-SNR.sde\SNR.DBO.SNRortho_2015 RasterDataset" C:\Users\kflamm\AppData\Roaming\Esri\ArcGISPro\Favorites\SQLServer-MBGGISDB01-SNR.sde SNR1999;SNR2009;SNRortho_2015 "SNR.DBO.SNR1999 RasterDataset DBO.SNR1999 #;SNR.DBO.SNR2009 RasterDataset DBO.SNR2009 #;SNR.DBO.SNRortho_2015 RasterDataset DBO.SNRortho_2015 #"</Process>
<Process Date="20241216" Time="143049" ToolSource="c:\program files\arcgis\pro\Resources\ArcToolbox\Toolboxes\Data Management Tools.tbx\Rename">Rename C:\Users\kflamm\AppData\Roaming\Esri\ArcGISPro\Favorites\SQLServer-MBGGISDB01-SNR.sde\DBO.SNRortho_2015 C:\Users\kflamm\AppData\Roaming\Esri\ArcGISPro\Favorites\SQLServer-MBGGISDB01-SNR.sde\DBO.Ortho2015 RasterDataset</Process>
</lineage>
<itemProps>
<itemName Sync="TRUE">SNR.DBO.SNRortho_2015</itemName>
<imsContentType Sync="TRUE">002</imsContentType>
<nativeExtBox>
<westBL Sync="TRUE">722392.000000</westBL>
<eastBL Sync="TRUE">738776.000000</eastBL>
<southBL Sync="TRUE">950084.500000</southBL>
<northBL Sync="TRUE">966468.500000</northBL>
<exTypeCode Sync="TRUE">1</exTypeCode>
</nativeExtBox>
<itemLocation>
<linkage Sync="TRUE">Server=mbggis10; Service=sde:sqlserver:mbggis10\gis; Database=SNR; Version=dbo.DEFAULT</linkage>
<protocol Sync="TRUE">ArcSDE Connection</protocol>
</itemLocation>
</itemProps>
<coordRef>
<type Sync="TRUE">Projected</type>
<geogcsn Sync="TRUE">GCS_North_American_1983</geogcsn>
<csUnits Sync="TRUE">Linear Unit: Foot_US (0.304801)</csUnits>
<projcsn Sync="TRUE">NAD_1983_2011_StatePlane_Missouri_East_FIPS_2401_Feet</projcsn>
<peXml Sync="TRUE">&lt;ProjectedCoordinateSystem xsi:type='typens:ProjectedCoordinateSystem' xmlns:xsi='http://www.w3.org/2001/XMLSchema-instance' xmlns:xs='http://www.w3.org/2001/XMLSchema' xmlns:typens='http://www.esri.com/schemas/ArcGIS/10.5'&gt;&lt;WKT&gt;PROJCS[&amp;quot;NAD_1983_2011_StatePlane_Missouri_East_FIPS_2401_Feet&amp;quot;,GEOGCS[&amp;quot;GCS_North_American_1983&amp;quot;,DATUM[&amp;quot;D_North_American_1983&amp;quot;,SPHEROID[&amp;quot;GRS_1980&amp;quot;,6378137.0,298.257222101]],PRIMEM[&amp;quot;Greenwich&amp;quot;,0.0],UNIT[&amp;quot;Degree&amp;quot;,0.0174532925199433]],PROJECTION[&amp;quot;Transverse_Mercator&amp;quot;],PARAMETER[&amp;quot;false_easting&amp;quot;,820208.333333333],PARAMETER[&amp;quot;false_northing&amp;quot;,0.0],PARAMETER[&amp;quot;central_meridian&amp;quot;,-90.5],PARAMETER[&amp;quot;scale_factor&amp;quot;,0.999933333333333],PARAMETER[&amp;quot;latitude_of_origin&amp;quot;,35.8333333333333],UNIT[&amp;quot;Foot_US&amp;quot;,0.3048006096012192]]&lt;/WKT&gt;&lt;XOrigin&gt;-17627100&lt;/XOrigin&gt;&lt;YOrigin&gt;-45827300&lt;/YOrigin&gt;&lt;XYScale&gt;137250677.77723414&lt;/XYScale&gt;&lt;ZOrigin&gt;-100000&lt;/ZOrigin&gt;&lt;ZScale&gt;10000&lt;/ZScale&gt;&lt;MOrigin&gt;-100000&lt;/MOrigin&gt;&lt;MScale&gt;10000&lt;/MScale&gt;&lt;XYTolerance&gt;0.0032808333333333331&lt;/XYTolerance&gt;&lt;ZTolerance&gt;0.00020000000000000001&lt;/ZTolerance&gt;&lt;MTolerance&gt;0.00020000000000000001&lt;/MTolerance&gt;&lt;HighPrecision&gt;true&lt;/HighPrecision&gt;&lt;/ProjectedCoordinateSystem&gt;</peXml>
</coordRef>
</DataProperties>
<SyncDate>20190221</SyncDate>
<SyncTime>15210700</SyncTime>
<ModDate>20190221</ModDate>
<ModTime>15210700</ModTime>
<scaleRange>
<minScale>150000000</minScale>
<maxScale>5000</maxScale>
</scaleRange>
<ArcGISProfile>NAP</ArcGISProfile>
</Esri>
<dataIdInfo>
<envirDesc Sync="TRUE">Microsoft Windows 7 Version 6.1 (Build 7601) Service Pack 1; Esri ArcGIS 10.5.0.6491</envirDesc>
<dataLang>
<languageCode Sync="TRUE" value="eng"/>
<countryCode Sync="TRUE" value="USA"/>
</dataLang>
<idCitation>
<resTitle Sync="TRUE">SNR_Ortho2015</resTitle>
<presForm>
<PresFormCd Sync="TRUE" value="011"/>
</presForm>
</idCitation>
<spatRpType>
<SpatRepTypCd Sync="TRUE" value="002"/>
</spatRpType>
<dataExt>
<geoEle>
<GeoBndBox esriExtentType="search">
<exTypeCode Sync="TRUE">1</exTypeCode>
<westBL Sync="TRUE">-90.841743</westBL>
<eastBL Sync="TRUE">-90.784326</eastBL>
<northBL Sync="TRUE">38.487502</northBL>
<southBL Sync="TRUE">38.442359</southBL>
</GeoBndBox>
</geoEle>
</dataExt>
<idAbs>&lt;DIV STYLE="text-align:Left;"&gt;&lt;DIV&gt;&lt;DIV&gt;&lt;P&gt;&lt;SPAN&gt;Under contract with East West Gateway Council of Governments, RGB aerial imagery was acquired in early spring 2015 at a GSD of 6". The area encompasses approximately 4,503 sq. miles and is defined as Franklin, Jefferson, St. Charles, St. Louis counties and the City of St. Louis in Missouri, and Madison, Monroe and St. Clair counties in Illinois. The data was flown between 3/15/2015 and 4/17/2015 with a building correction flight over downtown St. Louis on 7/15/2015. Six-inch resolution, 100 scale accuracy, leaf-off, color-infrared (4-band) orthophotos. &lt;/SPAN&gt;&lt;/P&gt;&lt;P&gt;&lt;SPAN /&gt;&lt;SPAN /&gt;&lt;/P&gt;&lt;P&gt;&lt;SPAN /&gt;&lt;/P&gt;&lt;/DIV&gt;&lt;/DIV&gt;&lt;/DIV&gt;</idAbs>
<searchKeys>
<keyword>imagery</keyword>
<keyword>2015</keyword>
<keyword>shaw</keyword>
<keyword>SNR</keyword>
</searchKeys>
<idPurp>This raster dataset is a mosaic of 16 tiles provided by the East West Gateway Council of Governments. The extent covers Shaw Nature Reserve.</idPurp>
<resConst>
<Consts>
<useLimit>&lt;DIV STYLE="text-align:Left;"&gt;&lt;DIV&gt;&lt;DIV&gt;&lt;P&gt;&lt;SPAN&gt;None&lt;/SPAN&gt;&lt;/P&gt;&lt;/DIV&gt;&lt;/DIV&gt;&lt;/DIV&gt;</useLimit>
</Consts>
</resConst>
<idCredit>EWGCOG</idCredit>
</dataIdInfo>
<mdLang>
<languageCode Sync="TRUE" value="eng"/>
<countryCode Sync="TRUE" value="USA"/>
</mdLang>
<distInfo>
<distFormat>
<formatName Sync="TRUE">SDE Raster Dataset</formatName>
</distFormat>
</distInfo>
<mdHrLv>
<ScopeCd Sync="TRUE" value="005"/>
</mdHrLv>
<mdHrLvName Sync="TRUE">dataset</mdHrLvName>
<refSysInfo>
<RefSystem>
<refSysID>
<identCode Sync="TRUE" code="0"/>
</refSysID>
</RefSystem>
</refSysInfo>
<spdoinfo>
<rastinfo>
<rasttype Sync="TRUE">Pixel</rasttype>
<rowcount Sync="TRUE">32768</rowcount>
<colcount Sync="TRUE">32768</colcount>
<rastxsz Sync="TRUE">0.500000</rastxsz>
<rastysz Sync="TRUE">0.500000</rastysz>
<rastbpp Sync="TRUE">8</rastbpp>
<vrtcount Sync="TRUE">1</vrtcount>
<rastorig Sync="TRUE">Upper Left</rastorig>
<rastcmap Sync="TRUE">FALSE</rastcmap>
<rastcomp Sync="TRUE">LZ77</rastcomp>
<rastband Sync="TRUE">4</rastband>
<rastdtyp Sync="TRUE">pixel codes</rastdtyp>
<rastifor Sync="TRUE">SDR</rastifor>
<rastplyr Sync="TRUE">TRUE</rastplyr>
</rastinfo>
</spdoinfo>
<spref>
<horizsys>
<planar>
<planci>
<plance Sync="TRUE">row and column</plance>
<coordrep>
<absres Sync="TRUE">0.500000</absres>
<ordres Sync="TRUE">0.500000</ordres>
</coordrep>
</planci>
</planar>
</horizsys>
</spref>
<mdDateSt Sync="TRUE">20190221</mdDateSt>
</metadata>
