View In:
ArcGIS JavaScript
ArcGIS Online Map Viewer
ArcGIS Earth
Service Description: ClimateData/WC21_25m_BIO01
Name: ClimateData/WC21_25m_BIO01
Description:
Single Fused Map Cache: false
Extent:
XMin: -180.0
YMin: -90.00000000002046
XMax: 179.99999999991815
YMax: 90.0
Spatial Reference: 4326
(4326)
LatestVCSWkid(0)
Initial Extent:
XMin: -180.0
YMin: -90.00000000002046
XMax: 179.99999999991815
YMax: 90.0
Spatial Reference: 4326
(4326)
LatestVCSWkid(0)
Full Extent:
XMin: -180.0
YMin: -90.00000000002046
XMax: 179.99999999991815
YMax: 90.0
Spatial Reference: 4326
(4326)
LatestVCSWkid(0)
Pixel Size X: 0.04166666666665719
Pixel Size Y: 0.041666666666671404
Band Count: 1
Pixel Type: F32
RasterFunction Infos: {"rasterFunctionInfos": [{
"name": "None",
"description": "",
"help": ""
}]}
Mensuration Capabilities: Basic
Inspection Capabilities:
Has Histograms: true
Has Colormap: false
Has Multi Dimensions : false
Rendering Rule:
Min Scale: 0
Max Scale: 0
Copyright Text:
Service Data Type: esriImageServiceDataTypeGeneric
Min Values: -54.7591667175293
Max Values: 31.16666603088379
Mean Values: -4.338804037476193
Standard Deviation Values: 24.62591398517508
Object ID Field:
Fields:
None
Default Mosaic Method: Center
Allowed Mosaic Methods:
SortField:
SortValue: null
Mosaic Operator: First
Default Compression Quality: 75
Default Resampling Method: Bilinear
Max Record Count: null
Max Image Height: 4100
Max Image Width: 15000
Max Download Image Count: null
Max Mosaic Image Count: null
Allow Raster Function: true
Allow Copy: true
Allow Analysis: true
Allow Compute TiePoints: false
Supports Statistics: false
Supports Advanced Queries: false
Use StandardizedQueries: true
Raster Type Infos:
Name: Raster Dataset
Description: Supports all ArcGIS Raster Datasets
Help:
Has Raster Attribute Table: false
Edit Fields Info: null
Ownership Based AccessControl For Rasters: null
Child Resources:
Info
Histograms
Statistics
Key Properties
Legend
Raster Function Infos
Supported Operations:
Export Image
Identify
Measure
Compute Histograms
Compute Statistics Histograms
Get Samples
Compute Class Statistics
Query Boundary
Compute Pixel Location
Compute Angles
Validate
Project