View In:
ArcGIS JavaScript
ArcGIS Online Map Viewer
ArcGIS Earth
Service Description: LREC/LREC_Drone201907
Name: LREC/LREC_Drone201907
Description:
Single Fused Map Cache: false
Extent:
XMin: 853636.7595127486
YMin: 1015041.1994783663
XMax: 856445.0770338388
YMax: 1017940.2695096396
Spatial Reference: 102696
(102696)
LatestVCSWkid(0)
Initial Extent:
XMin: 853636.7595127486
YMin: 1015041.1994783663
XMax: 856445.0770338388
YMax: 1017940.2695096396
Spatial Reference: 102696
(102696)
LatestVCSWkid(0)
Full Extent:
XMin: 853636.7595127486
YMin: 1015041.1994783663
XMax: 856445.0770338388
YMax: 1017940.2695096396
Spatial Reference: 102696
(102696)
LatestVCSWkid(0)
Pixel Size X: 0.07494842596984974
Pixel Size Y: 0.0747144485148522
Band Count: 4
Pixel Type: U8
RasterFunction Infos: {"rasterFunctionInfos": [{
"name": "None",
"description": "",
"help": ""
}]}
Mensuration Capabilities: Basic
Inspection Capabilities:
Has Histograms: true
Has Colormap: false
Has Multi Dimensions : false
Rendering Rule:
Min Scale: 0
Max Scale: 0
Copyright Text:
Service Data Type: esriImageServiceDataTypeGeneric
Min Values: 0, 0, 0, 0
Max Values: 255, 255, 255, 255
Mean Values: 125.51892262181983, 140.0484366479989, 87.7462550887178, 254.78646094119338
Standard Deviation Values: 56.38929996096923, 51.589262416449046, 52.73100656861271, 7.376100672389608
Object ID Field:
Fields:
None
Default Mosaic Method: Center
Allowed Mosaic Methods:
SortField:
SortValue: null
Mosaic Operator: First
Default Compression Quality: 75
Default Resampling Method: Bilinear
Max Record Count: null
Max Image Height: 4100
Max Image Width: 15000
Max Download Image Count: null
Max Mosaic Image Count: null
Allow Raster Function: true
Allow Copy: true
Allow Analysis: true
Allow Compute TiePoints: false
Supports Statistics: false
Supports Advanced Queries: false
Use StandardizedQueries: true
Raster Type Infos:
Name: Raster Dataset
Description: Supports all ArcGIS Raster Datasets
Help:
Has Raster Attribute Table: false
Edit Fields Info: null
Ownership Based AccessControl For Rasters: null
Child Resources:
Info
Histograms
Statistics
Key Properties
Legend
Raster Function Infos
Supported Operations:
Export Image
Identify
Measure
Compute Histograms
Compute Statistics Histograms
Get Samples
Compute Class Statistics
Query Boundary
Compute Pixel Location
Compute Angles
Validate
Project