View In:
ArcGIS JavaScript
ArcGIS Online Map Viewer
ArcGIS Earth
Service Description: LREC/LREC_Drone202002
Name: LREC/LREC_Drone202002
Description:
Single Fused Map Cache: false
Extent:
XMin: 854010.9009659209
YMin: 1015382.985756576
XMax: 856119.0711089624
YMax: 1017552.0702819658
Spatial Reference: 102696
(102696)
LatestVCSWkid(0)
Initial Extent:
XMin: 854010.9009659209
YMin: 1015382.985756576
XMax: 856119.0711089624
YMax: 1017552.0702819658
Spatial Reference: 102696
(102696)
LatestVCSWkid(0)
Full Extent:
XMin: 854010.9009659209
YMin: 1015382.985756576
XMax: 856119.0711089624
YMax: 1017552.0702819658
Spatial Reference: 102696
(102696)
LatestVCSWkid(0)
Pixel Size X: 0.06494070612825453
Pixel Size Y: 0.06494070612825453
Band Count: 4
Pixel Type: U8
RasterFunction Infos: {"rasterFunctionInfos": [{
"name": "None",
"description": "",
"help": ""
}]}
Mensuration Capabilities: Basic
Inspection Capabilities:
Has Histograms: true
Has Colormap: false
Has Multi Dimensions : false
Rendering Rule:
Min Scale: 0
Max Scale: 0
Copyright Text:
Service Data Type: esriImageServiceDataTypeGeneric
Min Values: 0, 0, 0, 0
Max Values: 255, 255, 255, 255
Mean Values: 125.68242118654697, 111.21433843566713, 94.24718941021689, 254.998261861914
Standard Deviation Values: 47.55071428542066, 44.08423382011101, 41.13997325135696, 0.6657493459233074
Object ID Field:
Fields:
None
Default Mosaic Method: Center
Allowed Mosaic Methods:
SortField:
SortValue: null
Mosaic Operator: First
Default Compression Quality: 75
Default Resampling Method: Bilinear
Max Record Count: null
Max Image Height: 4100
Max Image Width: 15000
Max Download Image Count: null
Max Mosaic Image Count: null
Allow Raster Function: true
Allow Copy: true
Allow Analysis: true
Allow Compute TiePoints: false
Supports Statistics: false
Supports Advanced Queries: false
Use StandardizedQueries: true
Raster Type Infos:
Name: Raster Dataset
Description: Supports all ArcGIS Raster Datasets
Help:
Has Raster Attribute Table: false
Edit Fields Info: null
Ownership Based AccessControl For Rasters: null
Child Resources:
Info
Histograms
Statistics
Key Properties
Legend
Raster Function Infos
Supported Operations:
Export Image
Identify
Measure
Compute Histograms
Compute Statistics Histograms
Get Samples
Compute Class Statistics
Query Boundary
Compute Pixel Location
Compute Angles
Validate
Project