View In:
ArcGIS JavaScript
ArcGIS Online Map Viewer
ArcGIS Earth
Service Description: LREC/LREC_Drone202203
Name: LREC/LREC_Drone202203
Description:
Single Fused Map Cache: false
Extent:
XMin: 853712.3075499793
YMin: 1015404.4634443639
XMax: 856112.2941892369
YMax: 1017750.5273213946
Spatial Reference: 102696
(102696)
LatestVCSWkid(0)
Initial Extent:
XMin: 853712.3075499793
YMin: 1015404.4634443639
XMax: 856112.2941892369
YMax: 1017750.5273213946
Spatial Reference: 102696
(102696)
LatestVCSWkid(0)
Full Extent:
XMin: 853712.3075499793
YMin: 1015404.4634443639
XMax: 856112.2941892369
YMax: 1017750.5273213946
Spatial Reference: 102696
(102696)
LatestVCSWkid(0)
Pixel Size X: 0.10331855177827874
Pixel Size Y: 0.10371176681096067
Band Count: 4
Pixel Type: U8
RasterFunction Infos: {"rasterFunctionInfos": [{
"name": "None",
"description": "",
"help": ""
}]}
Mensuration Capabilities: Basic
Inspection Capabilities:
Has Histograms: true
Has Colormap: false
Has Multi Dimensions : false
Rendering Rule:
Min Scale: 0
Max Scale: 0
Copyright Text:
Service Data Type: esriImageServiceDataTypeGeneric
Min Values: 0, 0, 0, 255
Max Values: 255, 255, 255, 255
Mean Values: 123.44532826237389, 115.86006684949434, 96.79593756032456, 255
Standard Deviation Values: 32.829361703203006, 30.656314430268065, 35.43958387705516, 0
Object ID Field:
Fields:
None
Default Mosaic Method: Center
Allowed Mosaic Methods:
SortField:
SortValue: null
Mosaic Operator: First
Default Compression Quality: 75
Default Resampling Method: Bilinear
Max Record Count: null
Max Image Height: 4100
Max Image Width: 15000
Max Download Image Count: null
Max Mosaic Image Count: null
Allow Raster Function: true
Allow Copy: true
Allow Analysis: true
Allow Compute TiePoints: false
Supports Statistics: false
Supports Advanced Queries: false
Use StandardizedQueries: true
Raster Type Infos:
Name: Raster Dataset
Description: Supports all ArcGIS Raster Datasets
Help:
Has Raster Attribute Table: false
Edit Fields Info: null
Ownership Based AccessControl For Rasters: null
Child Resources:
Info
Histograms
Statistics
Key Properties
Legend
Raster Function Infos
Supported Operations:
Export Image
Identify
Measure
Compute Histograms
Compute Statistics Histograms
Get Samples
Compute Class Statistics
Query Boundary
Compute Pixel Location
Compute Angles
Validate
Project