View In:
ArcGIS JavaScript
ArcGIS Online Map Viewer
ArcGIS Earth
Service Description: LREC/LREC_Drone202305
Name: LREC/LREC_Drone202305
Description:
Single Fused Map Cache: false
Extent:
XMin: 853397.1659942239
YMin: 1015361.6669466788
XMax: 856200.2095965729
YMax: 1018070.2619335338
Spatial Reference: 102696
(102696)
LatestVCSWkid(0)
Initial Extent:
XMin: 853397.1659942239
YMin: 1015361.6669466788
XMax: 856200.2095965729
YMax: 1018070.2619335338
Spatial Reference: 102696
(102696)
LatestVCSWkid(0)
Full Extent:
XMin: 853397.1659942239
YMin: 1015361.6669466788
XMax: 856200.2095965729
YMax: 1018070.2619335338
Spatial Reference: 102696
(102696)
LatestVCSWkid(0)
Pixel Size X: 0.07105126872193364
Pixel Size Y: 0.07086481573060155
Band Count: 4
Pixel Type: U8
RasterFunction Infos: {"rasterFunctionInfos": [{
"name": "None",
"description": "",
"help": ""
}]}
Mensuration Capabilities: Basic
Inspection Capabilities:
Has Histograms: true
Has Colormap: false
Has Multi Dimensions : false
Rendering Rule:
Min Scale: 0
Max Scale: 0
Resampling: false
Copyright Text:
Service Data Type: esriImageServiceDataTypeGeneric
Min Values: 1, 1, 1, 1
Max Values: 255, 255, 255, 255
Mean Values: 111.54527983401677, 119.68810047987398, 102.54651395984466, 140.79846283032248
Standard Deviation Values: 59.600670565748516, 57.28814329493858, 61.79470162282782, 85.022933381872
Object ID Field:
Fields:
None
Default Mosaic Method: Center
Allowed Mosaic Methods:
SortField:
SortValue: null
Mosaic Operator: First
Default Compression Quality: 75
Default Resampling Method: Bilinear
Max Record Count: null
Max Image Height: 4100
Max Image Width: 15000
Max Download Image Count: null
Max Mosaic Image Count: null
Allow Raster Function: true
Allow Copy: true
Allow Analysis: true
Allow Compute TiePoints: false
Supports Statistics: false
Supports Advanced Queries: false
Use StandardizedQueries: true
Raster Type Infos:
Name: Raster Dataset
Description: Supports all ArcGIS Raster Datasets
Help:
Has Raster Attribute Table: false
Edit Fields Info: null
Ownership Based AccessControl For Rasters: null
Child Resources:
Info
Histograms
Statistics
Key Properties
Legend
Raster Function Infos
Supported Operations:
Export Image
Identify
Measure
Compute Histograms
Compute Statistics Histograms
Get Samples
Compute Class Statistics
Query Boundary
Compute Pixel Location
Compute Angles
Validate
Project