View In:
ArcGIS JavaScript
ArcGIS Online Map Viewer
ArcGIS Earth
Service Description: MBG/HPN_Drone20190304
Name: MBG/HPN_Drone20190304
Description:
Single Fused Map Cache: false
Extent:
XMin: 888371.2063618607
YMin: 1005361.0443991667
XMax: 889069.8161371842
YMax: 1005995.0841634183
Spatial Reference: 102696
(102696)
LatestVCSWkid(0)
Initial Extent:
XMin: 888371.2063618607
YMin: 1005361.0443991667
XMax: 889069.8161371842
YMax: 1005995.0841634183
Spatial Reference: 102696
(102696)
LatestVCSWkid(0)
Full Extent:
XMin: 888371.2063618607
YMin: 1005361.0443991667
XMax: 889069.8161371842
YMax: 1005995.0841634183
Spatial Reference: 102696
(102696)
LatestVCSWkid(0)
Pixel Size X: 0.06740084663033485
Pixel Size Y: 0.06740084663033485
Band Count: 3
Pixel Type: U8
RasterFunction Infos: {"rasterFunctionInfos": [{
"name": "None",
"description": "",
"help": ""
}]}
Mensuration Capabilities: Basic
Inspection Capabilities:
Has Histograms: true
Has Colormap: false
Has Multi Dimensions : false
Rendering Rule:
Min Scale: 0
Max Scale: 0
Copyright Text:
Service Data Type: esriImageServiceDataTypeRGB
Min Values: 0, 0, 0
Max Values: 255, 255, 255
Mean Values: 131.50418002707696, 130.04627710240925, 126.95859702414612
Standard Deviation Values: 35.736070451036916, 37.245040968753194, 39.14017220663149
Object ID Field:
Fields:
None
Default Mosaic Method: Center
Allowed Mosaic Methods:
SortField:
SortValue: null
Mosaic Operator: First
Default Compression Quality: 75
Default Resampling Method: Bilinear
Max Record Count: null
Max Image Height: 4100
Max Image Width: 15000
Max Download Image Count: null
Max Mosaic Image Count: null
Allow Raster Function: true
Allow Copy: true
Allow Analysis: true
Allow Compute TiePoints: false
Supports Statistics: false
Supports Advanced Queries: false
Use StandardizedQueries: true
Raster Type Infos:
Name: Raster Dataset
Description: Supports all ArcGIS Raster Datasets
Help:
Has Raster Attribute Table: false
Edit Fields Info: null
Ownership Based AccessControl For Rasters: null
Child Resources:
Info
Histograms
Statistics
Key Properties
Legend
Raster Function Infos
Supported Operations:
Export Image
Identify
Measure
Compute Histograms
Compute Statistics Histograms
Get Samples
Compute Class Statistics
Query Boundary
Compute Pixel Location
Compute Angles
Validate
Project