View In:
ArcGIS JavaScript
ArcGIS Online Map Viewer
ArcGIS Earth
Service Description: MBG/HPN_Drone20220523
Name: MBG/HPN_Drone20220523
Description:
Single Fused Map Cache: false
Extent:
XMin: 888321.0507574077
YMin: 1005309.7342308955
XMax: 889085.4671714399
YMax: 1006045.2514794202
Spatial Reference: 102696
(102696)
LatestVCSWkid(0)
Initial Extent:
XMin: 888321.0507574077
YMin: 1005309.7342308955
XMax: 889085.4671714399
YMax: 1006045.2514794202
Spatial Reference: 102696
(102696)
LatestVCSWkid(0)
Full Extent:
XMin: 888321.0507574077
YMin: 1005309.7342308955
XMax: 889085.4671714399
YMax: 1006045.2514794202
Spatial Reference: 102696
(102696)
LatestVCSWkid(0)
Pixel Size X: 0.05363572930341177
Pixel Size Y: 0.05391169453380504
Band Count: 4
Pixel Type: U8
RasterFunction Infos: {"rasterFunctionInfos": [{
"name": "None",
"description": "",
"help": ""
}]}
Mensuration Capabilities: Basic
Inspection Capabilities:
Has Histograms: true
Has Colormap: false
Has Multi Dimensions : false
Rendering Rule:
Min Scale: 0
Max Scale: 0
Copyright Text:
Service Data Type: esriImageServiceDataTypeGeneric
Min Values: 0, 0, 0, 255
Max Values: 255, 255, 255, 255
Mean Values: 130.64598666470127, 130.45271213963568, 113.07732292678739, 255
Standard Deviation Values: 53.912853064299654, 49.84281255603649, 59.24570656449156, 0
Object ID Field:
Fields:
None
Default Mosaic Method: Center
Allowed Mosaic Methods:
SortField:
SortValue: null
Mosaic Operator: First
Default Compression Quality: 75
Default Resampling Method: Bilinear
Max Record Count: null
Max Image Height: 4100
Max Image Width: 15000
Max Download Image Count: null
Max Mosaic Image Count: null
Allow Raster Function: true
Allow Copy: true
Allow Analysis: true
Allow Compute TiePoints: false
Supports Statistics: false
Supports Advanced Queries: false
Use StandardizedQueries: true
Raster Type Infos:
Name: Raster Dataset
Description: Supports all ArcGIS Raster Datasets
Help:
Has Raster Attribute Table: false
Edit Fields Info: null
Ownership Based AccessControl For Rasters: null
Child Resources:
Info
Histograms
Statistics
Key Properties
Legend
Raster Function Infos
Supported Operations:
Export Image
Identify
Measure
Compute Histograms
Compute Statistics Histograms
Get Samples
Compute Class Statistics
Query Boundary
Compute Pixel Location
Compute Angles
Validate
Project