View In:
ArcGIS JavaScript
ArcGIS Online Map Viewer
ArcGIS Earth
Service Description: MBG/MBG_DroneT20210308
Name: MBG/MBG_DroneT20210308
Description:
Single Fused Map Cache: false
Extent:
XMin: 887612.2415949426
YMin: 1010244.038168046
XMax: 890046.0375149735
YMax: 1013889.0751696414
Spatial Reference: 102696
(102696)
LatestVCSWkid(0)
Initial Extent:
XMin: 887612.2415949426
YMin: 1010244.038168046
XMax: 890046.0375149735
YMax: 1013889.0751696414
Spatial Reference: 102696
(102696)
LatestVCSWkid(0)
Full Extent:
XMin: 887612.2415949426
YMin: 1010244.038168046
XMax: 890046.0375149735
YMax: 1013889.0751696414
Spatial Reference: 102696
(102696)
LatestVCSWkid(0)
Pixel Size X: 0.06082665000577108
Pixel Size Y: 0.060826650005763316
Band Count: 4
Pixel Type: U8
RasterFunction Infos: {"rasterFunctionInfos": [{
"name": "None",
"description": "",
"help": ""
}]}
Mensuration Capabilities: Basic
Inspection Capabilities:
Has Histograms: true
Has Colormap: false
Has Multi Dimensions : false
Rendering Rule:
Min Scale: 0
Max Scale: 0
Copyright Text:
Service Data Type: esriImageServiceDataTypeGeneric
Min Values: 0, 0, 0, 0
Max Values: 255, 255, 255, 255
Mean Values: 100.33509122968175, 97.90441695461757, 94.31293734530097, 120.09621436633616
Standard Deviation Values: 69.5111389775024, 67.95804338019028, 66.41010331742507, 90.23862073088002
Object ID Field:
Fields:
None
Default Mosaic Method: Center
Allowed Mosaic Methods:
SortField:
SortValue: null
Mosaic Operator: First
Default Compression Quality: 75
Default Resampling Method: Bilinear
Max Record Count: null
Max Image Height: 4100
Max Image Width: 15000
Max Download Image Count: null
Max Mosaic Image Count: null
Allow Raster Function: true
Allow Copy: true
Allow Analysis: true
Allow Compute TiePoints: false
Supports Statistics: false
Supports Advanced Queries: false
Use StandardizedQueries: true
Raster Type Infos:
Name: Raster Dataset
Description: Supports all ArcGIS Raster Datasets
Help:
Has Raster Attribute Table: false
Edit Fields Info: null
Ownership Based AccessControl For Rasters: null
Child Resources:
Info
Histograms
Statistics
Key Properties
Legend
Raster Function Infos
Supported Operations:
Export Image
Identify
Measure
Compute Histograms
Compute Statistics Histograms
Get Samples
Compute Class Statistics
Query Boundary
Compute Pixel Location
Compute Angles
Validate
Project