View In:
ArcGIS JavaScript
ArcGIS Online Map Viewer
ArcGIS Earth
Service Description: 2015 imagery clipped to smaller extent to make cache size smaller for map service use.
Description for 2015 imagery: Under contract with East West Gateway Council of Governments, RGB aerial imagery was acquired in early spring 2015 at a GSD of 6". The area encompasses approximately 4,503 sq. miles and is defined as Franklin, Jefferson, St. Charles, St. Louis counties and the City of St. Louis in Missouri, and Madison, Monroe and St. Clair counties in Illinois. The data was flown between 3/15/2015 and 4/17/2015 with a building correction flight over downtown St. Louis on 7/15/2015. Six-inch resolution, 100 scale accuracy, leaf-off, color-infrared (4-band) orthophotos.
Name: MBG/MBG_Ortho2015
Description: 2015 imagery clipped to smaller extent to make cache size smaller for map service use.
Description for 2015 imagery: Under contract with East West Gateway Council of Governments, RGB aerial imagery was acquired in early spring 2015 at a GSD of 6". The area encompasses approximately 4,503 sq. miles and is defined as Franklin, Jefferson, St. Charles, St. Louis counties and the City of St. Louis in Missouri, and Madison, Monroe and St. Clair counties in Illinois. The data was flown between 3/15/2015 and 4/17/2015 with a building correction flight over downtown St. Louis on 7/15/2015. Six-inch resolution, 100 scale accuracy, leaf-off, color-infrared (4-band) orthophotos.
Single Fused Map Cache: false
Extent:
XMin: 886231.9563475661
YMin: 1010046.7219632119
XMax: 890319.9563475661
YMax: 1014353.2219632119
Spatial Reference: 0
(0)
LatestVCSWkid(0)
Initial Extent:
XMin: 886231.9563475661
YMin: 1010046.7219632119
XMax: 890319.9563475661
YMax: 1014353.2219632119
Spatial Reference: 0
(0)
LatestVCSWkid(0)
Full Extent:
XMin: 886231.9563475661
YMin: 1010046.7219632119
XMax: 890319.9563475661
YMax: 1014353.2219632119
Spatial Reference: 0
(0)
LatestVCSWkid(0)
Pixel Size X: 0.5
Pixel Size Y: 0.5
Band Count: 4
Pixel Type: U8
RasterFunction Infos: {"rasterFunctionInfos": [{
"name": "None",
"description": "",
"help": ""
}]}
Mensuration Capabilities: Basic
Inspection Capabilities:
Has Histograms: true
Has Colormap: false
Has Multi Dimensions : false
Rendering Rule:
Min Scale: 0
Max Scale: 0
Copyright Text:
Service Data Type: esriImageServiceDataTypeGeneric
Min Values: 1, 1, 1, 1
Max Values: 255, 255, 255, 255
Mean Values: 99.958148236054, 99.05035595970901, 94.65058573333386, 99.56599630242162
Standard Deviation Values: 45.33653361918073, 44.52231240599996, 44.797124434638626, 46.48879832227849
Object ID Field:
Fields:
None
Default Mosaic Method: Center
Allowed Mosaic Methods:
SortField:
SortValue: null
Mosaic Operator: First
Default Compression Quality: 75
Default Resampling Method: Bilinear
Max Record Count: null
Max Image Height: 4100
Max Image Width: 15000
Max Download Image Count: null
Max Mosaic Image Count: null
Allow Raster Function: true
Allow Copy: true
Allow Analysis: true
Allow Compute TiePoints: false
Supports Statistics: false
Supports Advanced Queries: false
Use StandardizedQueries: true
Raster Type Infos:
Name: Raster Dataset
Description: Supports all ArcGIS Raster Datasets
Help:
Has Raster Attribute Table: false
Edit Fields Info: null
Ownership Based AccessControl For Rasters: null
Child Resources:
Info
Histograms
Statistics
Key Properties
Legend
Raster Function Infos
Supported Operations:
Export Image
Identify
Measure
Compute Histograms
Compute Statistics Histograms
Get Samples
Compute Class Statistics
Query Boundary
Compute Pixel Location
Compute Angles
Validate
Project