View In:
ArcGIS JavaScript
ArcGIS Online Map Viewer
ArcGIS Earth
Service Description: Under contract with East West Gateway Council of Governments, RGB aerial imagery was acquired in early spring 2015 at a GSD of 6". The area encompasses approximately 4,503 sq. miles and is defined as Franklin, Jefferson, St. Charles, St. Louis counties and the City of St. Louis in Missouri, and Madison, Monroe and St. Clair counties in Illinois. The data was flown between 3/15/2015 and 4/17/2015 with a building correction flight over downtown St. Louis on 7/15/2015. Six-inch resolution, 100 scale accuracy, leaf-off, color-infrared (4-band) orthophotos.
Name: SNR/SNR_Ortho2015
Description: Under contract with East West Gateway Council of Governments, RGB aerial imagery was acquired in early spring 2015 at a GSD of 6". The area encompasses approximately 4,503 sq. miles and is defined as Franklin, Jefferson, St. Charles, St. Louis counties and the City of St. Louis in Missouri, and Madison, Monroe and St. Clair counties in Illinois. The data was flown between 3/15/2015 and 4/17/2015 with a building correction flight over downtown St. Louis on 7/15/2015. Six-inch resolution, 100 scale accuracy, leaf-off, color-infrared (4-band) orthophotos.
Single Fused Map Cache: false
Extent:
XMin: 722392.0
YMin: 950084.5
XMax: 738776.0
YMax: 966468.5
Spatial Reference: 0
(0)
LatestVCSWkid(0)
Initial Extent:
XMin: 722392.0
YMin: 950084.5
XMax: 738776.0
YMax: 966468.5
Spatial Reference: 0
(0)
LatestVCSWkid(0)
Full Extent:
XMin: 722392.0
YMin: 950084.5
XMax: 738776.0
YMax: 966468.5
Spatial Reference: 0
(0)
LatestVCSWkid(0)
Pixel Size X: 0.5
Pixel Size Y: 0.5
Band Count: 4
Pixel Type: U8
RasterFunction Infos: {"rasterFunctionInfos": [{
"name": "None",
"description": "",
"help": ""
}]}
Mensuration Capabilities: Basic
Inspection Capabilities:
Has Histograms: true
Has Colormap: false
Has Multi Dimensions : false
Rendering Rule:
Min Scale: 0
Max Scale: 0
Copyright Text: EWGCOG
Service Data Type: esriImageServiceDataTypeGeneric
Min Values: 1, 1, 1, 1
Max Values: 255, 255, 255, 255
Mean Values: 92.51701401360333, 90.62548501370475, 84.7773979138583, 93.09556829906069
Standard Deviation Values: 30.734139223474838, 29.5943223053696, 29.69437830254809, 33.8302773694943
Object ID Field:
Fields:
None
Default Mosaic Method: Center
Allowed Mosaic Methods:
SortField:
SortValue: null
Mosaic Operator: First
Default Compression Quality: 75
Default Resampling Method: Bilinear
Max Record Count: null
Max Image Height: 4100
Max Image Width: 15000
Max Download Image Count: null
Max Mosaic Image Count: null
Allow Raster Function: true
Allow Copy: true
Allow Analysis: true
Allow Compute TiePoints: false
Supports Statistics: false
Supports Advanced Queries: false
Use StandardizedQueries: true
Raster Type Infos:
Name: Raster Dataset
Description: Supports all ArcGIS Raster Datasets
Help:
Has Raster Attribute Table: false
Edit Fields Info: null
Ownership Based AccessControl For Rasters: null
Child Resources:
Info
Histograms
Statistics
Key Properties
Legend
Raster Function Infos
Supported Operations:
Export Image
Identify
Measure
Compute Histograms
Compute Statistics Histograms
Get Samples
Compute Class Statistics
Query Boundary
Compute Pixel Location
Compute Angles
Validate
Project