View In:
ArcGIS JavaScript
ArcGIS Online Map Viewer
ArcGIS Earth
Service Description: SNR/SNR_Ortho2022
Name: SNR/SNR_Ortho2022
Description:
Single Fused Map Cache: false
Extent:
XMin: 722965.7564191436
YMin: 950274.0885587989
XMax: 738877.1419191438
YMax: 966900.0395587976
Spatial Reference: 102696
(102696)
LatestVCSWkid(0)
Initial Extent:
XMin: 722965.7564191436
YMin: 950274.0885587989
XMax: 738877.1419191438
YMax: 966900.0395587976
Spatial Reference: 102696
(102696)
LatestVCSWkid(0)
Full Extent:
XMin: 722965.7564191436
YMin: 950274.0885587989
XMax: 738877.1419191438
YMax: 966900.0395587976
Spatial Reference: 102696
(102696)
LatestVCSWkid(0)
Pixel Size X: 0.9842500000000128
Pixel Size Y: 0.9842499999999242
Band Count: 5
Pixel Type: U8
RasterFunction Infos: {"rasterFunctionInfos": [{
"name": "None",
"description": "",
"help": ""
}]}
Mensuration Capabilities: Basic
Inspection Capabilities:
Has Histograms: true
Has Colormap: false
Has Multi Dimensions : false
Rendering Rule:
Min Scale: 0
Max Scale: 0
Copyright Text:
Service Data Type: esriImageServiceDataTypeGeneric
Min Values: 0, 0, 0, 0, 0
Max Values: 255, 255, 255, 255, 255
Mean Values: 110.85680483359333, 110.15118852034777, 101.5647858187943, 113.17588999576463, 141.54071199661172
Standard Deviation Values: 44.53066593027671, 42.02232290628173, 41.6401588077305, 47.46563122024354, 70.85648473161501
Object ID Field:
Fields:
None
Default Mosaic Method: Center
Allowed Mosaic Methods:
SortField:
SortValue: null
Mosaic Operator: First
Default Compression Quality: 75
Default Resampling Method: Bilinear
Max Record Count: null
Max Image Height: 4100
Max Image Width: 15000
Max Download Image Count: null
Max Mosaic Image Count: null
Allow Raster Function: true
Allow Copy: true
Allow Analysis: true
Allow Compute TiePoints: false
Supports Statistics: false
Supports Advanced Queries: false
Use StandardizedQueries: true
Raster Type Infos:
Name: Raster Dataset
Description: Supports all ArcGIS Raster Datasets
Help:
Has Raster Attribute Table: false
Edit Fields Info: null
Ownership Based AccessControl For Rasters: null
Child Resources:
Info
Histograms
Statistics
Key Properties
Legend
Raster Function Infos
Supported Operations:
Export Image
Identify
Measure
Compute Histograms
Compute Statistics Histograms
Get Samples
Compute Class Statistics
Query Boundary
Compute Pixel Location
Compute Angles
Validate
Project