View In:
ArcGIS JavaScript
ArcGIS Online Map Viewer
ArcGIS Earth
Service Description: BH/BH_Drone201901
Name: BH/BH_Drone201901
Description:
Single Fused Map Cache: false
Extent:
XMin: 807685.3931128646
YMin: 1030634.6210522236
XMax: 808257.5669486562
YMax: 1031096.6949932533
Spatial Reference: 102696
(102696)
LatestVCSWkid(0)
Initial Extent:
XMin: 807685.3931128646
YMin: 1030634.6210522236
XMax: 808257.5669486562
YMax: 1031096.6949932533
Spatial Reference: 102696
(102696)
LatestVCSWkid(0)
Full Extent:
XMin: 807685.3931128646
YMin: 1030634.6210522236
XMax: 808257.5669486562
YMax: 1031096.6949932533
Spatial Reference: 102696
(102696)
LatestVCSWkid(0)
Pixel Size X: 0.08555230798320088
Pixel Size Y: 0.08622391136960714
Band Count: 4
Pixel Type: U8
RasterFunction Infos: {"rasterFunctionInfos": [{
"name": "None",
"description": "",
"help": ""
}]}
Mensuration Capabilities: Basic
Inspection Capabilities:
Has Histograms: true
Has Colormap: false
Has Multi Dimensions : false
Rendering Rule:
Min Scale: 0
Max Scale: 0
Copyright Text:
Service Data Type: esriImageServiceDataTypeGeneric
Min Values: 0, 0, 0, 0
Max Values: 255, 255, 255, 255
Mean Values: 124.68851302226334, 124.2109521076154, 121.09721465269433, 154.57291098952075
Standard Deviation Values: 46.12450661004158, 46.94526823943017, 48.75627131949663, 71.72689359185222
Object ID Field:
Fields:
None
Default Mosaic Method: Center
Allowed Mosaic Methods:
SortField:
SortValue: null
Mosaic Operator: First
Default Compression Quality: 75
Default Resampling Method: Bilinear
Max Record Count: null
Max Image Height: 4100
Max Image Width: 15000
Max Download Image Count: null
Max Mosaic Image Count: null
Allow Raster Function: true
Allow Copy: true
Allow Analysis: true
Allow Compute TiePoints: false
Supports Statistics: false
Supports Advanced Queries: false
Use StandardizedQueries: true
Raster Type Infos:
Name: Raster Dataset
Description: Supports all ArcGIS Raster Datasets
Help:
Has Raster Attribute Table: false
Edit Fields Info: null
Ownership Based AccessControl For Rasters: null
Child Resources:
Info
Histograms
Statistics
Key Properties
Legend
Raster Function Infos
Supported Operations:
Export Image
Identify
Measure
Compute Histograms
Compute Statistics Histograms
Get Samples
Compute Class Statistics
Query Boundary
Compute Pixel Location
Compute Angles
Validate
Project