View In:
ArcGIS JavaScript
ArcGIS Online Map Viewer
ArcGIS Earth
Service Description: BH/BH_Drone20250319
Name: BH/BH_Drone20250319
Description:
Single Fused Map Cache: false
Extent:
XMin: 807349.3401885371
YMin: 1030412.9705563971
XMax: 808571.0381985536
YMax: 1031467.5321794295
Spatial Reference: 102696
(102696)
LatestVCSWkid(0)
Initial Extent:
XMin: 807349.3401885371
YMin: 1030412.9705563971
XMax: 808571.0381985536
YMax: 1031467.5321794295
Spatial Reference: 102696
(102696)
LatestVCSWkid(0)
Full Extent:
XMin: 807349.3401885371
YMin: 1030412.9705563971
XMax: 808571.0381985536
YMax: 1031467.5321794295
Spatial Reference: 102696
(102696)
LatestVCSWkid(0)
Pixel Size X: 0.04266003247490976
Pixel Size Y: 0.042610272052706684
Band Count: 4
Pixel Type: U8
RasterFunction Infos: {"rasterFunctionInfos": [{
"name": "None",
"description": "",
"help": ""
}]}
Mensuration Capabilities: Basic
Inspection Capabilities:
Has Histograms: true
Has Colormap: false
Has Multi Dimensions : false
Rendering Rule:
Min Scale: 0
Max Scale: 0
Copyright Text:
Service Data Type: esriImageServiceDataTypeProcessed
Min Values: 1, 1, 1, 255
Max Values: 254, 254, 254, 255
Mean Values: 129.56595708711413, 125.43679329851872, 107.42841822553214, 255
Standard Deviation Values: 46.1203883787868, 43.52870506719989, 47.54596169293956, 0
Object ID Field:
Fields:
None
Default Mosaic Method: Center
Allowed Mosaic Methods:
SortField:
SortValue: null
Mosaic Operator: First
Default Compression Quality: 75
Default Resampling Method: Bilinear
Max Record Count: null
Max Image Height: 4100
Max Image Width: 15000
Max Download Image Count: null
Max Mosaic Image Count: null
Allow Raster Function: true
Allow Copy: true
Allow Analysis: true
Allow Compute TiePoints: false
Supports Statistics: false
Supports Advanced Queries: false
Use StandardizedQueries: true
Raster Type Infos:
Name: Raster Dataset
Description: Supports all ArcGIS Raster Datasets
Help:
Has Raster Attribute Table: false
Edit Fields Info: null
Ownership Based AccessControl For Rasters: null
Child Resources:
Info
Histograms
Statistics
Key Properties
Legend
Raster Function Infos
Supported Operations:
Export Image
Identify
Measure
Compute Histograms
Compute Statistics Histograms
Get Samples
Compute Class Statistics
Query Boundary
Compute Pixel Location
Compute Angles
Validate
Project