View In:
ArcGIS JavaScript
ArcGIS Online Map Viewer
ArcGIS Earth
Service Description: Imagery mosaic extracted from original dataset based on a 250 ft buffer of LREC property line.
Original dataset is a mosaic of 533 images taken on March 8 and 11, 2019, at LREC using Mavic 2 Zoom drone flown in pre-programmed grid flight pattern at an average of 183 ft altitude (note: not above take off point). Mosaic produced using Pix4Dmapper. Approximate resolution is 2.95 cm/pixel.
Name: LREC/LREC_Drone201903
Description: Imagery mosaic extracted from original dataset based on a 250 ft buffer of LREC property line.
Original dataset is a mosaic of 533 images taken on March 8 and 11, 2019, at LREC using Mavic 2 Zoom drone flown in pre-programmed grid flight pattern at an average of 183 ft altitude (note: not above take off point). Mosaic produced using Pix4Dmapper. Approximate resolution is 2.95 cm/pixel.
Single Fused Map Cache: false
Extent:
XMin: 853717.1066115781
YMin: 1015031.6248438453
XMax: 856366.2776421678
YMax: 1017653.3688840243
Spatial Reference: 102696
(102696)
LatestVCSWkid(0)
Initial Extent:
XMin: 853717.1066115781
YMin: 1015031.6248438453
XMax: 856366.2776421678
YMax: 1017653.3688840243
Spatial Reference: 102696
(102696)
LatestVCSWkid(0)
Full Extent:
XMin: 853717.1066115781
YMin: 1015031.6248438453
XMax: 856366.2776421678
YMax: 1017653.3688840243
Spatial Reference: 102696
(102696)
LatestVCSWkid(0)
Pixel Size X: 0.09865823888684687
Pixel Size Y: 0.09865823888684679
Band Count: 4
Pixel Type: U8
RasterFunction Infos: {"rasterFunctionInfos": [{
"name": "None",
"description": "",
"help": ""
}]}
Mensuration Capabilities: Basic
Inspection Capabilities:
Has Histograms: true
Has Colormap: false
Has Multi Dimensions : false
Rendering Rule:
Min Scale: 0
Max Scale: 0
Resampling: false
Copyright Text:
Service Data Type: esriImageServiceDataTypeGeneric
Min Values: 0, 0, 0, 0
Max Values: 255, 255, 255, 255
Mean Values: 139.924430738337, 135.56868651655995, 124.61328723492282, 254.54770092983935
Standard Deviation Values: 33.118881289421175, 32.618090005915576, 33.29242960749208, 10.7299435574372
Object ID Field:
Fields:
None
Default Mosaic Method: Center
Allowed Mosaic Methods:
SortField:
SortValue: null
Mosaic Operator: First
Default Compression Quality: 75
Default Resampling Method: Bilinear
Max Record Count: null
Max Image Height: 4100
Max Image Width: 15000
Max Download Image Count: null
Max Mosaic Image Count: null
Allow Raster Function: true
Allow Copy: true
Allow Analysis: true
Allow Compute TiePoints: false
Supports Statistics: false
Supports Advanced Queries: false
Use StandardizedQueries: true
Raster Type Infos:
Name: Raster Dataset
Description: Supports all ArcGIS Raster Datasets
Help:
Has Raster Attribute Table: false
Edit Fields Info: null
Ownership Based AccessControl For Rasters: null
Child Resources:
Info
Histograms
Statistics
Key Properties
Legend
Raster Function Infos
Supported Operations:
Export Image
Identify
Measure
Compute Histograms
Compute Statistics Histograms
Get Samples
Compute Class Statistics
Query Boundary
Compute Pixel Location
Compute Angles
Validate
Project