View In:
ArcGIS JavaScript
ArcGIS Online Map Viewer
ArcGIS Earth
Service Description: LREC/LREC_Drone201910
Name: LREC/LREC_Drone201910
Description:
Single Fused Map Cache: false
Extent:
XMin: 854402.4919719697
YMin: 1015031.586809811
XMax: 856246.8090897204
YMax: 1017653.4295082293
Spatial Reference: 102696
(102696)
LatestVCSWkid(0)
Initial Extent:
XMin: 854402.4919719697
YMin: 1015031.586809811
XMax: 856246.8090897204
YMax: 1017653.4295082293
Spatial Reference: 102696
(102696)
LatestVCSWkid(0)
Full Extent:
XMin: 854402.4919719697
YMin: 1015031.586809811
XMax: 856246.8090897204
YMax: 1017653.4295082293
Spatial Reference: 102696
(102696)
LatestVCSWkid(0)
Pixel Size X: 0.0986582388868431
Pixel Size Y: 0.09865823888685993
Band Count: 4
Pixel Type: U8
RasterFunction Infos: {"rasterFunctionInfos": [{
"name": "None",
"description": "",
"help": ""
}]}
Mensuration Capabilities: Basic
Inspection Capabilities:
Has Histograms: true
Has Colormap: false
Has Multi Dimensions : false
Rendering Rule:
Min Scale: 0
Max Scale: 0
Copyright Text:
Service Data Type: esriImageServiceDataTypeGeneric
Min Values: 0, 0, 0, 0
Max Values: 255, 255, 255, 255
Mean Values: 134.68987979666025, 132.63584477526138, 119.84518106095976, 153.50158601254068
Standard Deviation Values: 41.462181514560086, 39.69704467538218, 45.950652856489086, 70.82036495264506
Object ID Field:
Fields:
None
Default Mosaic Method: Center
Allowed Mosaic Methods:
SortField:
SortValue: null
Mosaic Operator: First
Default Compression Quality: 75
Default Resampling Method: Bilinear
Max Record Count: null
Max Image Height: 4100
Max Image Width: 15000
Max Download Image Count: null
Max Mosaic Image Count: null
Allow Raster Function: true
Allow Copy: true
Allow Analysis: true
Allow Compute TiePoints: false
Supports Statistics: false
Supports Advanced Queries: false
Use StandardizedQueries: true
Raster Type Infos:
Name: Raster Dataset
Description: Supports all ArcGIS Raster Datasets
Help:
Has Raster Attribute Table: false
Edit Fields Info: null
Ownership Based AccessControl For Rasters: null
Child Resources:
Info
Histograms
Statistics
Key Properties
Legend
Raster Function Infos
Supported Operations:
Export Image
Identify
Measure
Compute Histograms
Compute Statistics Histograms
Get Samples
Compute Class Statistics
Query Boundary
Compute Pixel Location
Compute Angles
Validate
Project