View In:
ArcGIS JavaScript
ArcGIS Online Map Viewer
ArcGIS Earth
Service Description: MBG/HPN_Drone20250801
Name: MBG/HPN_Drone20250801
Description:
Single Fused Map Cache: false
Extent:
XMin: 888252.3868998622
YMin: 1005296.2277421488
XMax: 889242.7921272482
YMax: 1006055.0046873067
Spatial Reference: 102696
(102696)
LatestVCSWkid(0)
Initial Extent:
XMin: 888252.3868998622
YMin: 1005296.2277421488
XMax: 889242.7921272482
YMax: 1006055.0046873067
Spatial Reference: 102696
(102696)
LatestVCSWkid(0)
Full Extent:
XMin: 888252.3868998622
YMin: 1005296.2277421488
XMax: 889242.7921272482
YMax: 1006055.0046873067
Spatial Reference: 102696
(102696)
LatestVCSWkid(0)
Pixel Size X: 0.06070519322010686
Pixel Size Y: 0.06105873864632718
Band Count: 4
Pixel Type: U8
RasterFunction Infos: {"rasterFunctionInfos": [{
"name": "None",
"description": "",
"help": ""
}]}
Mensuration Capabilities: Basic
Inspection Capabilities:
Has Histograms: true
Has Colormap: false
Has Multi Dimensions : false
Rendering Rule:
Min Scale: 0
Max Scale: 0
Copyright Text:
Service Data Type: esriImageServiceDataTypeProcessed
Min Values: 1, 1, 1, 1
Max Values: 254, 254, 254, 255
Mean Values: 141.73517437680172, 143.35861597083456, 139.37107994695612, 168.2783099602171
Standard Deviation Values: 64.05213083014989, 61.20121895331812, 64.10345810993897, 74.75843664753363
Object ID Field:
Fields:
None
Default Mosaic Method: Center
Allowed Mosaic Methods:
SortField:
SortValue: null
Mosaic Operator: First
Default Compression Quality: 75
Default Resampling Method: Bilinear
Max Record Count: null
Max Image Height: 4100
Max Image Width: 15000
Max Download Image Count: null
Max Mosaic Image Count: null
Allow Raster Function: true
Allow Copy: true
Allow Analysis: true
Allow Compute TiePoints: false
Supports Statistics: false
Supports Advanced Queries: false
Use StandardizedQueries: true
Raster Type Infos:
Name: Raster Dataset
Description: Supports all ArcGIS Raster Datasets
Help:
Has Raster Attribute Table: false
Edit Fields Info: null
Ownership Based AccessControl For Rasters: null
Child Resources:
Info
Histograms
Statistics
Key Properties
Legend
Raster Function Infos
Supported Operations:
Export Image
Identify
Measure
Compute Histograms
Compute Statistics Histograms
Get Samples
Compute Class Statistics
Query Boundary
Compute Pixel Location
Compute Angles
Validate
Project