View In:
ArcGIS JavaScript
ArcGIS Online Map Viewer
ArcGIS Earth
Service Description: Imagery of main MBG site, March 20, 2023.
Acquired using DJI Mavic 3 Enterprise drone, flown at 250 ft AGL.
Approximate GSD 2.07 cm / 0.82 in.
Area covered approximately 0.53 sq km / 52.9 ha / 0.2 sq mi / 130.7 acres.
819 images. Processed using Esri Site Scan, all default settings.
Name: MBG/MBG_Drone20230320
Description: Imagery of main MBG site, March 20, 2023.
Acquired using DJI Mavic 3 Enterprise drone, flown at 250 ft AGL.
Approximate GSD 2.07 cm / 0.82 in.
Area covered approximately 0.53 sq km / 52.9 ha / 0.2 sq mi / 130.7 acres.
819 images. Processed using Esri Site Scan, all default settings.
Single Fused Map Cache: false
Extent:
XMin: 887783.1913451125
YMin: 1010445.249284787
XMax: 889947.8407041273
YMax: 1013743.4098406433
Spatial Reference: 102696
(102696)
LatestVCSWkid(0)
Initial Extent:
XMin: 887783.1913451125
YMin: 1010445.249284787
XMax: 889947.8407041273
YMax: 1013743.4098406433
Spatial Reference: 102696
(102696)
LatestVCSWkid(0)
Full Extent:
XMin: 887783.1913451125
YMin: 1010445.249284787
XMax: 889947.8407041273
YMax: 1013743.4098406433
Spatial Reference: 102696
(102696)
LatestVCSWkid(0)
Pixel Size X: 0.06785309256519392
Pixel Size Y: 0.0678550087613937
Band Count: 4
Pixel Type: U8
RasterFunction Infos: {"rasterFunctionInfos": [{
"name": "None",
"description": "",
"help": ""
}]}
Mensuration Capabilities: Basic
Inspection Capabilities:
Has Histograms: true
Has Colormap: false
Has Multi Dimensions : false
Rendering Rule:
Min Scale: 0
Max Scale: 0
Copyright Text:
Service Data Type: esriImageServiceDataTypeGeneric
Min Values: 0, 0, 0, 0
Max Values: 255, 255, 255, 255
Mean Values: 100.26969333121771, 98.64395968774612, 94.9595750860416, 117.79213833601563
Standard Deviation Values: 79.01241004506127, 77.36736633489018, 75.81259038946962, 95.26091018272015
Object ID Field:
Fields:
None
Default Mosaic Method: Center
Allowed Mosaic Methods:
SortField:
SortValue: null
Mosaic Operator: First
Default Compression Quality: 75
Default Resampling Method: Bilinear
Max Record Count: null
Max Image Height: 4100
Max Image Width: 15000
Max Download Image Count: null
Max Mosaic Image Count: null
Allow Raster Function: true
Allow Copy: true
Allow Analysis: true
Allow Compute TiePoints: false
Supports Statistics: false
Supports Advanced Queries: false
Use StandardizedQueries: true
Raster Type Infos:
Name: Raster Dataset
Description: Supports all ArcGIS Raster Datasets
Help:
Has Raster Attribute Table: false
Edit Fields Info: null
Ownership Based AccessControl For Rasters: null
Child Resources:
Info
Histograms
Statistics
Key Properties
Legend
Raster Function Infos
Supported Operations:
Export Image
Identify
Measure
Compute Histograms
Compute Statistics Histograms
Get Samples
Compute Class Statistics
Query Boundary
Compute Pixel Location
Compute Angles
Validate
Project