View In:
ArcGIS JavaScript
ArcGIS Online Map Viewer
ArcGIS Earth
Service Description: MBG/MBG_Drone20240306
Name: MBG/MBG_Drone20240306
Description:
Single Fused Map Cache: false
Extent:
XMin: 887704.5392244009
YMin: 1010243.0373159724
XMax: 890029.6327364128
YMax: 1013840.0696165902
Spatial Reference: 102696
(102696)
LatestVCSWkid(0)
Initial Extent:
XMin: 887704.5392244009
YMin: 1010243.0373159724
XMax: 890029.6327364128
YMax: 1013840.0696165902
Spatial Reference: 102696
(102696)
LatestVCSWkid(0)
Full Extent:
XMin: 887704.5392244009
YMin: 1010243.0373159724
XMax: 890029.6327364128
YMax: 1013840.0696165902
Spatial Reference: 102696
(102696)
LatestVCSWkid(0)
Pixel Size X: 0.06559537076149424
Pixel Size Y: 0.06553523239779509
Band Count: 4
Pixel Type: U8
RasterFunction Infos: {"rasterFunctionInfos": [{
"name": "None",
"description": "",
"help": ""
}]}
Mensuration Capabilities: Basic
Inspection Capabilities:
Has Histograms: true
Has Colormap: false
Has Multi Dimensions : false
Rendering Rule:
Min Scale: 0
Max Scale: 0
Copyright Text:
Service Data Type: esriImageServiceDataTypeProcessed
Min Values: 1, 1, 1, 255
Max Values: 254, 254, 254, 255
Mean Values: 134.29346408213058, 129.91302827434043, 119.42733339529632, 255
Standard Deviation Values: 63.783081635350776, 60.809703283890705, 60.52350668939714, 0
Object ID Field:
Fields:
None
Default Mosaic Method: Center
Allowed Mosaic Methods:
SortField:
SortValue: null
Mosaic Operator: First
Default Compression Quality: 75
Default Resampling Method: Bilinear
Max Record Count: null
Max Image Height: 4100
Max Image Width: 15000
Max Download Image Count: null
Max Mosaic Image Count: null
Allow Raster Function: true
Allow Copy: true
Allow Analysis: true
Allow Compute TiePoints: false
Supports Statistics: false
Supports Advanced Queries: false
Use StandardizedQueries: true
Raster Type Infos:
Name: Raster Dataset
Description: Supports all ArcGIS Raster Datasets
Help:
Has Raster Attribute Table: false
Edit Fields Info: null
Ownership Based AccessControl For Rasters: null
Child Resources:
Info
Histograms
Statistics
Key Properties
Legend
Raster Function Infos
Supported Operations:
Export Image
Identify
Measure
Compute Histograms
Compute Statistics Histograms
Get Samples
Compute Class Statistics
Query Boundary
Compute Pixel Location
Compute Angles
Validate
Project