View In:
ArcGIS JavaScript
ArcGIS Online Map Viewer
ArcGIS Earth
Service Description: MBG/MBG_Drone20250307
Name: MBG/MBG_Drone20250307
Description:
Single Fused Map Cache: false
Extent:
XMin: 887721.8292669244
YMin: 1010233.5962299865
XMax: 890050.9340235176
YMax: 1013836.9456088458
Spatial Reference: 102696
(102696)
LatestVCSWkid(0)
Initial Extent:
XMin: 887721.8292669244
YMin: 1010233.5962299865
XMax: 890050.9340235176
YMax: 1013836.9456088458
Spatial Reference: 102696
(102696)
LatestVCSWkid(0)
Full Extent:
XMin: 887721.8292669244
YMin: 1010233.5962299865
XMax: 890050.9340235176
YMax: 1013836.9456088458
Spatial Reference: 102696
(102696)
LatestVCSWkid(0)
Pixel Size X: 0.06570853570482532
Pixel Size Y: 0.06565032482845255
Band Count: 4
Pixel Type: U8
RasterFunction Infos: {"rasterFunctionInfos": [{
"name": "None",
"description": "",
"help": ""
}]}
Mensuration Capabilities: Basic
Inspection Capabilities:
Has Histograms: true
Has Colormap: false
Has Multi Dimensions : false
Rendering Rule:
Min Scale: 0
Max Scale: 0
Copyright Text:
Service Data Type: esriImageServiceDataTypeProcessed
Min Values: 1, 1, 1, 1
Max Values: 254, 254, 254, 255
Mean Values: 131.49005495811537, 128.78609276219717, 123.8724982429619, 156.65437368222143
Standard Deviation Values: 56.74338734011099, 55.9467834765704, 56.073710280807326, 74.71378594951736
Object ID Field:
Fields:
None
Default Mosaic Method: Center
Allowed Mosaic Methods:
SortField:
SortValue: null
Mosaic Operator: First
Default Compression Quality: 75
Default Resampling Method: Bilinear
Max Record Count: null
Max Image Height: 4100
Max Image Width: 15000
Max Download Image Count: null
Max Mosaic Image Count: null
Allow Raster Function: true
Allow Copy: true
Allow Analysis: true
Allow Compute TiePoints: false
Supports Statistics: false
Supports Advanced Queries: false
Use StandardizedQueries: true
Raster Type Infos:
Name: Raster Dataset
Description: Supports all ArcGIS Raster Datasets
Help:
Has Raster Attribute Table: false
Edit Fields Info: null
Ownership Based AccessControl For Rasters: null
Child Resources:
Info
Histograms
Statistics
Key Properties
Legend
Raster Function Infos
Supported Operations:
Export Image
Identify
Measure
Compute Histograms
Compute Statistics Histograms
Get Samples
Compute Class Statistics
Query Boundary
Compute Pixel Location
Compute Angles
Validate
Project