View In:
ArcGIS JavaScript
ArcGIS Online Map Viewer
ArcGIS Earth
Service Description: MBG/MBG_DroneT20210419
Name: MBG/MBG_DroneT20210419
Description:
Single Fused Map Cache: false
Extent:
XMin: 887641.8406320402
YMin: 1010282.4072252489
XMax: 890077.6750912076
YMax: 1013825.0610279656
Spatial Reference: 102696
(102696)
LatestVCSWkid(0)
Initial Extent:
XMin: 887641.8406320402
YMin: 1010282.4072252489
XMax: 890077.6750912076
YMax: 1013825.0610279656
Spatial Reference: 102696
(102696)
LatestVCSWkid(0)
Full Extent:
XMin: 887641.8406320402
YMin: 1010282.4072252489
XMax: 890077.6750912076
YMax: 1013825.0610279656
Spatial Reference: 102696
(102696)
LatestVCSWkid(0)
Pixel Size X: 0.06045604376082598
Pixel Size Y: 0.060455874719991046
Band Count: 4
Pixel Type: U8
RasterFunction Infos: {"rasterFunctionInfos": [{
"name": "None",
"description": "",
"help": ""
}]}
Mensuration Capabilities: Basic
Inspection Capabilities:
Has Histograms: true
Has Colormap: false
Has Multi Dimensions : false
Rendering Rule:
Min Scale: 0
Max Scale: 0
Copyright Text:
Service Data Type: esriImageServiceDataTypeGeneric
Min Values: 0, 0, 0, 0
Max Values: 255, 255, 255, 255
Mean Values: 95.56087953871386, 97.12245631631944, 90.00061653437245, 115.63952528660279
Standard Deviation Values: 72.2798690385773, 71.78967478594872, 70.45507058514016, 93.27905546577048
Object ID Field:
Fields:
None
Default Mosaic Method: Center
Allowed Mosaic Methods:
SortField:
SortValue: null
Mosaic Operator: First
Default Compression Quality: 75
Default Resampling Method: Bilinear
Max Record Count: null
Max Image Height: 4100
Max Image Width: 15000
Max Download Image Count: null
Max Mosaic Image Count: null
Allow Raster Function: true
Allow Copy: true
Allow Analysis: true
Allow Compute TiePoints: false
Supports Statistics: false
Supports Advanced Queries: false
Use StandardizedQueries: true
Raster Type Infos:
Name: Raster Dataset
Description: Supports all ArcGIS Raster Datasets
Help:
Has Raster Attribute Table: false
Edit Fields Info: null
Ownership Based AccessControl For Rasters: null
Child Resources:
Info
Histograms
Statistics
Key Properties
Legend
Raster Function Infos
Supported Operations:
Export Image
Identify
Measure
Compute Histograms
Compute Statistics Histograms
Get Samples
Compute Class Statistics
Query Boundary
Compute Pixel Location
Compute Angles
Validate
Project