View In:
ArcGIS JavaScript
ArcGIS Online Map Viewer
ArcGIS Earth
Service Description: Six inch resolution, 100 scale accuracy, leaf-off, true color (RGB) orthophotos;
Funding provided through a grant from the U.S. Department of Homeland Security;
Extent of original dataset includes The City of St. Louis, Franklin, Jefferson, St. Charles & St. Louis Counties in Missouri, and Madison, Monroe and St. Clair Counties in Illinois
Name: MBG/MBG_Ortho2012
Description: Six inch resolution, 100 scale accuracy, leaf-off, true color (RGB) orthophotos;
Funding provided through a grant from the U.S. Department of Homeland Security;
Extent of original dataset includes The City of St. Louis, Franklin, Jefferson, St. Charles & St. Louis Counties in Missouri, and Madison, Monroe and St. Clair Counties in Illinois
Single Fused Map Cache: false
Extent:
XMin: 887814.3300992186
YMin: 1010515.6937035287
XMax: 889908.5731337807
YMax: 1013741.5680626405
Spatial Reference: 102696
(102696)
LatestVCSWkid(0)
Initial Extent:
XMin: 887814.3300992186
YMin: 1010515.6937035287
XMax: 889908.5731337807
YMax: 1013741.5680626405
Spatial Reference: 102696
(102696)
LatestVCSWkid(0)
Full Extent:
XMin: 887814.3300992186
YMin: 1010515.6937035287
XMax: 889908.5731337807
YMax: 1013741.5680626405
Spatial Reference: 102696
(102696)
LatestVCSWkid(0)
Pixel Size X: 0.5000580311752856
Pixel Size Y: 0.5000580311752856
Band Count: 3
Pixel Type: U8
RasterFunction Infos: {"rasterFunctionInfos": [{
"name": "None",
"description": "",
"help": ""
}]}
Mensuration Capabilities: Basic
Inspection Capabilities:
Has Histograms: true
Has Colormap: false
Has Multi Dimensions : false
Rendering Rule:
Min Scale: 0
Max Scale: 0
Copyright Text: East-West Gateway Council of Governments
One Memorial Drive, Suite 1600
St. Louis, MO 63102-2451
Service Data Type: esriImageServiceDataTypeRGB
Min Values: 1, 1, 1
Max Values: 255, 255, 255
Mean Values: 105.64728912260036, 103.30632793950191, 91.33974419905134
Standard Deviation Values: 47.54828052369409, 46.81727288470891, 45.040036440762606
Object ID Field:
Fields:
None
Default Mosaic Method: Center
Allowed Mosaic Methods:
SortField:
SortValue: null
Mosaic Operator: First
Default Compression Quality: 75
Default Resampling Method: Bilinear
Max Record Count: null
Max Image Height: 4100
Max Image Width: 15000
Max Download Image Count: null
Max Mosaic Image Count: null
Allow Raster Function: true
Allow Copy: true
Allow Analysis: true
Allow Compute TiePoints: false
Supports Statistics: false
Supports Advanced Queries: false
Use StandardizedQueries: true
Raster Type Infos:
Name: Raster Dataset
Description: Supports all ArcGIS Raster Datasets
Help:
Has Raster Attribute Table: false
Edit Fields Info: null
Ownership Based AccessControl For Rasters: null
Child Resources:
Info
Histograms
Statistics
Key Properties
Legend
Raster Function Infos
Supported Operations:
Export Image
Identify
Measure
Compute Histograms
Compute Statistics Histograms
Get Samples
Compute Class Statistics
Query Boundary
Compute Pixel Location
Compute Angles
Validate
Project