View In:
ArcGIS JavaScript
ArcGIS Online Map Viewer
ArcGIS Earth
Service Description: This is a mosaic of 432 images taken on June 26, 2019 at SNR using Mavic 2 Zoom drone flown in pre-programmed grid flight pattern at an average of 250 ft altitude (note: not above take off point). Mosaic produced using Pix4Dmapper. Approximate resolution is 4.65 cm/pixel. Approximate area of coverage is 209 acres.
Name: SNR/SNR_Drone201906
Description: This is a mosaic of 432 images taken on June 26, 2019 at SNR using Mavic 2 Zoom drone flown in pre-programmed grid flight pattern at an average of 250 ft altitude (note: not above take off point). Mosaic produced using Pix4Dmapper. Approximate resolution is 4.65 cm/pixel. Approximate area of coverage is 209 acres.
Single Fused Map Cache: false
Extent:
XMin: 726012.3621582324
YMin: 960877.0190137968
XMax: 728804.5076101228
YMax: 965254.5763677866
Spatial Reference: 102696
(102696)
LatestVCSWkid(0)
Initial Extent:
XMin: 726012.3621582324
YMin: 960877.0190137968
XMax: 728804.5076101228
YMax: 965254.5763677866
Spatial Reference: 102696
(102696)
LatestVCSWkid(0)
Full Extent:
XMin: 726012.3621582324
YMin: 960877.0190137968
XMax: 728804.5076101228
YMax: 965254.5763677866
Spatial Reference: 102696
(102696)
LatestVCSWkid(0)
Pixel Size X: 0.15219369082581605
Pixel Size Y: 0.1520935777218332
Band Count: 4
Pixel Type: U8
RasterFunction Infos: {"rasterFunctionInfos": [{
"name": "None",
"description": "",
"help": ""
}]}
Mensuration Capabilities: Basic
Inspection Capabilities:
Has Histograms: true
Has Colormap: false
Has Multi Dimensions : false
Rendering Rule:
Min Scale: 0
Max Scale: 0
Copyright Text:
Service Data Type: esriImageServiceDataTypeGeneric
Min Values: 0, 0, 0, 0
Max Values: 255, 255, 255, 255
Mean Values: 90.24974103210802, 97.98878366433931, 86.2906558449106, 111.94424494282923
Standard Deviation Values: 70.71870242355905, 73.82932314541345, 70.5447065621391, 93.95826328028869
Object ID Field:
Fields:
None
Default Mosaic Method: Center
Allowed Mosaic Methods:
SortField:
SortValue: null
Mosaic Operator: First
Default Compression Quality: 75
Default Resampling Method: Bilinear
Max Record Count: null
Max Image Height: 4100
Max Image Width: 15000
Max Download Image Count: null
Max Mosaic Image Count: null
Allow Raster Function: true
Allow Copy: true
Allow Analysis: true
Allow Compute TiePoints: false
Supports Statistics: false
Supports Advanced Queries: false
Use StandardizedQueries: true
Raster Type Infos:
Name: Raster Dataset
Description: Supports all ArcGIS Raster Datasets
Help:
Has Raster Attribute Table: false
Edit Fields Info: null
Ownership Based AccessControl For Rasters: null
Child Resources:
Info
Histograms
Statistics
Key Properties
Legend
Raster Function Infos
Supported Operations:
Export Image
Identify
Measure
Compute Histograms
Compute Statistics Histograms
Get Samples
Compute Class Statistics
Query Boundary
Compute Pixel Location
Compute Angles
Validate
Project