View In:
ArcGIS JavaScript
ArcGIS Online Map Viewer
ArcGIS Earth
Service Description: Imagery of Wolf Run Grassland Restoration project, March 28, 2023.
Acquired using DJI Mavic 3 Enterprise drone, flown at 390 ft AGL.
Approximate GSD 2.98 cm / 1.17 in.
Area covered approximately 1.4 sq km / 139 ha / 0.54 sq mi / 344 acres.
942 images. Processed using Esri Site Scan, all default settings.
Name: SNR/SNR_Drone202303
Description: Imagery of Wolf Run Grassland Restoration project, March 28, 2023.
Acquired using DJI Mavic 3 Enterprise drone, flown at 390 ft AGL.
Approximate GSD 2.98 cm / 1.17 in.
Area covered approximately 1.4 sq km / 139 ha / 0.54 sq mi / 344 acres.
942 images. Processed using Esri Site Scan, all default settings.
Single Fused Map Cache: false
Extent:
XMin: 727526.2271666465
YMin: 961565.3794381975
XMax: 732543.3019633737
YMax: 964612.4049179375
Spatial Reference: 102696
(102696)
LatestVCSWkid(0)
Initial Extent:
XMin: 727526.2271666465
YMin: 961565.3794381975
XMax: 732543.3019633737
YMax: 964612.4049179375
Spatial Reference: 102696
(102696)
LatestVCSWkid(0)
Full Extent:
XMin: 727526.2271666465
YMin: 961565.3794381975
XMax: 732543.3019633737
YMax: 964612.4049179375
Spatial Reference: 102696
(102696)
LatestVCSWkid(0)
Pixel Size X: 0.09789796278346784
Pixel Size Y: 0.09789640095550192
Band Count: 4
Pixel Type: U8
RasterFunction Infos: {"rasterFunctionInfos": [{
"name": "None",
"description": "",
"help": ""
}]}
Mensuration Capabilities: Basic
Inspection Capabilities:
Has Histograms: true
Has Colormap: false
Has Multi Dimensions : false
Rendering Rule:
Min Scale: 0
Max Scale: 0
Copyright Text:
Service Data Type: esriImageServiceDataTypeGeneric
Min Values: 0, 0, 0, 0
Max Values: 255, 255, 255, 255
Mean Values: 125.41256462845033, 122.28171598126949, 117.84625019266986, 144.6794916861011
Standard Deviation Values: 56.57019964149413, 55.339423653596235, 54.66891312042605, 77.9765431155935
Object ID Field:
Fields:
None
Default Mosaic Method: Center
Allowed Mosaic Methods:
SortField:
SortValue: null
Mosaic Operator: First
Default Compression Quality: 75
Default Resampling Method: Bilinear
Max Record Count: null
Max Image Height: 4100
Max Image Width: 15000
Max Download Image Count: null
Max Mosaic Image Count: null
Allow Raster Function: true
Allow Copy: true
Allow Analysis: true
Allow Compute TiePoints: false
Supports Statistics: false
Supports Advanced Queries: false
Use StandardizedQueries: true
Raster Type Infos:
Name: Raster Dataset
Description: Supports all ArcGIS Raster Datasets
Help:
Has Raster Attribute Table: false
Edit Fields Info: null
Ownership Based AccessControl For Rasters: null
Child Resources:
Info
Histograms
Statistics
Key Properties
Legend
Raster Function Infos
Supported Operations:
Export Image
Identify
Measure
Compute Histograms
Compute Statistics Histograms
Get Samples
Compute Class Statistics
Query Boundary
Compute Pixel Location
Compute Angles
Validate
Project