View In:
ArcGIS JavaScript
ArcGIS Online Map Viewer
ArcGIS Earth
Service Description: SNR/SNR_Drone202502
Name: SNR/SNR_Drone202502
Description:
Single Fused Map Cache: false
Extent:
XMin: 725672.7008784758
YMin: 960434.192870387
XMax: 728847.1179294585
YMax: 964988.4266185515
Spatial Reference: 102696
(102696)
LatestVCSWkid(0)
Initial Extent:
XMin: 725672.7008784758
YMin: 960434.192870387
XMax: 728847.1179294585
YMax: 964988.4266185515
Spatial Reference: 102696
(102696)
LatestVCSWkid(0)
Full Extent:
XMin: 725672.7008784758
YMin: 960434.192870387
XMax: 728847.1179294585
YMax: 964988.4266185515
Spatial Reference: 102696
(102696)
LatestVCSWkid(0)
Pixel Size X: 0.1016301280929313
Pixel Size Y: 0.0973230846920503
Band Count: 4
Pixel Type: U8
RasterFunction Infos: {"rasterFunctionInfos": [{
"name": "None",
"description": "",
"help": ""
}]}
Mensuration Capabilities: Basic
Inspection Capabilities:
Has Histograms: true
Has Colormap: false
Has Multi Dimensions : false
Rendering Rule:
Min Scale: 0
Max Scale: 0
Copyright Text:
Service Data Type: esriImageServiceDataTypeProcessed
Min Values: 1, 1, 1, 1
Max Values: 254, 254, 254, 255
Mean Values: 145.42654794889552, 140.63095847935088, 135.00564006279942, 165.00423004709955
Standard Deviation Values: 38.68515109474807, 38.35208963760799, 38.71303462304091, 61.83664359421287
Object ID Field:
Fields:
None
Default Mosaic Method: Center
Allowed Mosaic Methods:
SortField:
SortValue: null
Mosaic Operator: First
Default Compression Quality: 75
Default Resampling Method: Bilinear
Max Record Count: null
Max Image Height: 4100
Max Image Width: 15000
Max Download Image Count: null
Max Mosaic Image Count: null
Allow Raster Function: true
Allow Copy: true
Allow Analysis: true
Allow Compute TiePoints: false
Supports Statistics: false
Supports Advanced Queries: false
Use StandardizedQueries: true
Raster Type Infos:
Name: Raster Dataset
Description: Supports all ArcGIS Raster Datasets
Help:
Has Raster Attribute Table: false
Edit Fields Info: null
Ownership Based AccessControl For Rasters: null
Child Resources:
Info
Histograms
Statistics
Key Properties
Legend
Raster Function Infos
Supported Operations:
Export Image
Identify
Measure
Compute Histograms
Compute Statistics Histograms
Get Samples
Compute Class Statistics
Query Boundary
Compute Pixel Location
Compute Angles
Validate
Project