View In:
ArcGIS JavaScript
ArcGIS Online Map Viewer
ArcGIS Earth
Service Description: SNR/SNR_LIDAR_DEM_2011
Name: SNR/SNR_LIDAR_DEM_2011
Description:
Single Fused Map Cache: false
Extent:
XMin: 722966.3601462911
YMin: 950274.6819134578
XMax: 738875.1209798576
YMax: 966898.6644137015
Spatial Reference: 102696
(102696)
LatestVCSWkid(0)
Initial Extent:
XMin: 722966.3601462911
YMin: 950274.6819134578
XMax: 738875.1209798576
YMax: 966898.6644137015
Spatial Reference: 102696
(102696)
LatestVCSWkid(0)
Full Extent:
XMin: 722966.3601462911
YMin: 950274.6819134578
XMax: 738875.1209798576
YMax: 966898.6644137015
Spatial Reference: 102696
(102696)
LatestVCSWkid(0)
Pixel Size X: 3.2808333333814277
Pixel Size Y: 3.2808333333814286
Band Count: 1
Pixel Type: F32
RasterFunction Infos: {"rasterFunctionInfos": [{
"name": "None",
"description": "",
"help": ""
}]}
Mensuration Capabilities: Basic
Inspection Capabilities:
Has Histograms: true
Has Colormap: false
Has Multi Dimensions : false
Rendering Rule:
Min Scale: 0
Max Scale: 0
Copyright Text:
Service Data Type: esriImageServiceDataTypeGeneric
Min Values: 133.74000549316406
Max Values: 221.36000061035156
Mean Values: 169.36591147641957
Standard Deviation Values: 20.345582749112516
Object ID Field:
Fields:
None
Default Mosaic Method: Center
Allowed Mosaic Methods:
SortField:
SortValue: null
Mosaic Operator: First
Default Compression Quality: 75
Default Resampling Method: Bilinear
Max Record Count: null
Max Image Height: 4100
Max Image Width: 15000
Max Download Image Count: null
Max Mosaic Image Count: null
Allow Raster Function: true
Allow Copy: true
Allow Analysis: true
Allow Compute TiePoints: false
Supports Statistics: false
Supports Advanced Queries: false
Use StandardizedQueries: true
Raster Type Infos:
Name: Raster Dataset
Description: Supports all ArcGIS Raster Datasets
Help:
Has Raster Attribute Table: false
Edit Fields Info: null
Ownership Based AccessControl For Rasters: null
Child Resources:
Info
Histograms
Statistics
Key Properties
Legend
Raster Function Infos
Supported Operations:
Export Image
Identify
Measure
Compute Histograms
Compute Statistics Histograms
Get Samples
Compute Class Statistics
Query Boundary
Compute Pixel Location
Compute Angles
Validate
Project